BEGIN:VCALENDAR
VERSION:2.0
PRODID:-//RM of Cana - ECPv6.9.0//NONSGML v1.0//EN
CALSCALE:GREGORIAN
METHOD:PUBLISH
X-WR-CALNAME:RM of Cana
X-ORIGINAL-URL:https://rmofcana.ca
X-WR-CALDESC:Events for RM of Cana
REFRESH-INTERVAL;VALUE=DURATION:PT1H
X-Robots-Tag:noindex
X-PUBLISHED-TTL:PT1H
BEGIN:VTIMEZONE
TZID:America/Swift_Current
BEGIN:STANDARD
TZOFFSETFROM:-0600
TZOFFSETTO:-0600
TZNAME:CST
DTSTART:20210101T000000
END:STANDARD
END:VTIMEZONE
BEGIN:VEVENT
DTSTART;VALUE=DATE:20220422
DTEND;VALUE=DATE:20220423
DTSTAMP:20260419T150905
CREATED:20220420T152330Z
LAST-MODIFIED:20220420T152330Z
UID:9214-1650585600-1650671999@rmofcana.ca
SUMMARY:Office Closed
DESCRIPTION:Office Closed
URL:https://rmofcana.ca/event/office-closed-124/
END:VEVENT
BEGIN:VEVENT
DTSTART;VALUE=DATE:20220418
DTEND;VALUE=DATE:20220419
DTSTAMP:20260419T150905
CREATED:20220420T155037Z
LAST-MODIFIED:20220420T155122Z
UID:9340-1650240000-1650326399@rmofcana.ca
SUMMARY:Assessment Roll Closed
DESCRIPTION:Assessment Roll Closed
URL:https://rmofcana.ca/event/assessment-roll-closed/
END:VEVENT
BEGIN:VEVENT
DTSTART;VALUE=DATE:20220415
DTEND;VALUE=DATE:20220416
DTSTAMP:20260419T150905
CREATED:20220420T154111Z
LAST-MODIFIED:20220420T154111Z
UID:9314-1649980800-1650067199@rmofcana.ca
SUMMARY:Office Closed - Easter
DESCRIPTION:Office Closed – Easter
URL:https://rmofcana.ca/event/office-closed-easter/
END:VEVENT
BEGIN:VEVENT
DTSTART;VALUE=DATE:20220412
DTEND;VALUE=DATE:20220413
DTSTAMP:20260419T150905
CREATED:20220420T153725Z
LAST-MODIFIED:20220420T153725Z
UID:9293-1649721600-1649807999@rmofcana.ca
SUMMARY:Regular Council Meeting
DESCRIPTION:Regular Council Meeting – 9am
URL:https://rmofcana.ca/event/regular-council-meeting-15/
END:VEVENT
BEGIN:VEVENT
DTSTART;VALUE=DATE:20220408
DTEND;VALUE=DATE:20220409
DTSTAMP:20260419T150905
CREATED:20220420T152230Z
LAST-MODIFIED:20220420T152306Z
UID:9210-1649376000-1649462399@rmofcana.ca
SUMMARY:Office Closed
DESCRIPTION:Office Closed
URL:https://rmofcana.ca/event/office-closed-122/
END:VEVENT
BEGIN:VEVENT
DTSTART;VALUE=DATE:20220401
DTEND;VALUE=DATE:20220402
DTSTAMP:20260419T150905
CREATED:20220420T152209Z
LAST-MODIFIED:20220420T152209Z
UID:9208-1648771200-1648857599@rmofcana.ca
SUMMARY:Office Closed
DESCRIPTION:Office Closed
URL:https://rmofcana.ca/event/office-closed-121/
END:VEVENT
BEGIN:VEVENT
DTSTART;VALUE=DATE:20220325
DTEND;VALUE=DATE:20220326
DTSTAMP:20260419T150905
CREATED:20220420T152145Z
LAST-MODIFIED:20220420T152145Z
UID:9206-1648166400-1648252799@rmofcana.ca
SUMMARY:Office Closed
DESCRIPTION:Office Closed
URL:https://rmofcana.ca/event/office-closed-119/
END:VEVENT
BEGIN:VEVENT
DTSTART;VALUE=DATE:20220318
DTEND;VALUE=DATE:20220319
DTSTAMP:20260419T150905
CREATED:20220420T155019Z
LAST-MODIFIED:20220420T155019Z
UID:9338-1647561600-1647647999@rmofcana.ca
SUMMARY:Assessment Roll Open
DESCRIPTION:Assessment Roll Open
URL:https://rmofcana.ca/event/assessment-roll-open/
END:VEVENT
BEGIN:VEVENT
DTSTART;VALUE=DATE:20220318
DTEND;VALUE=DATE:20220319
DTSTAMP:20260419T150905
CREATED:20220420T152133Z
LAST-MODIFIED:20220420T152133Z
UID:9204-1647561600-1647647999@rmofcana.ca
SUMMARY:Office Closed
DESCRIPTION:Office Closed
URL:https://rmofcana.ca/event/office-closed-116/
END:VEVENT
BEGIN:VEVENT
DTSTART;VALUE=DATE:20220311
DTEND;VALUE=DATE:20220312
DTSTAMP:20260419T150905
CREATED:20220420T151954Z
LAST-MODIFIED:20220420T151954Z
UID:9197-1646956800-1647043199@rmofcana.ca
SUMMARY:Office Closed
DESCRIPTION:Office Closed
URL:https://rmofcana.ca/event/office-closed-118/
END:VEVENT
BEGIN:VEVENT
DTSTART;VALUE=DATE:20220308
DTEND;VALUE=DATE:20220309
DTSTAMP:20260419T150905
CREATED:20220420T153711Z
LAST-MODIFIED:20220420T153711Z
UID:9291-1646697600-1646783999@rmofcana.ca
SUMMARY:Regular Council Meeting
DESCRIPTION:Regular Council Meeting – 9am
URL:https://rmofcana.ca/event/regular-council-meeting-14/
END:VEVENT
BEGIN:VEVENT
DTSTART;VALUE=DATE:20220304
DTEND;VALUE=DATE:20220305
DTSTAMP:20260419T150905
CREATED:20220420T151941Z
LAST-MODIFIED:20220420T151941Z
UID:9195-1646352000-1646438399@rmofcana.ca
SUMMARY:Office Closed
DESCRIPTION:Office Closed
URL:https://rmofcana.ca/event/office-closed-117/
END:VEVENT
BEGIN:VEVENT
DTSTART;VALUE=DATE:20220225
DTEND;VALUE=DATE:20220226
DTSTAMP:20260419T150905
CREATED:20220420T152020Z
LAST-MODIFIED:20220420T152020Z
UID:9201-1645747200-1645833599@rmofcana.ca
SUMMARY:Office Closed
DESCRIPTION:Office Closed
URL:https://rmofcana.ca/event/office-closed-120/
END:VEVENT
BEGIN:VEVENT
DTSTART;VALUE=DATE:20220221
DTEND;VALUE=DATE:20220222
DTSTAMP:20260419T150905
CREATED:20220420T154034Z
LAST-MODIFIED:20220420T154034Z
UID:9312-1645401600-1645487999@rmofcana.ca
SUMMARY:Office Closed - Family Day
DESCRIPTION:Office Closed – Family Day
URL:https://rmofcana.ca/event/office-closed-family-day-3/
END:VEVENT
BEGIN:VEVENT
DTSTART;VALUE=DATE:20220218
DTEND;VALUE=DATE:20220219
DTSTAMP:20260419T150905
CREATED:20220420T151914Z
LAST-MODIFIED:20220420T151914Z
UID:9191-1645142400-1645228799@rmofcana.ca
SUMMARY:Office Closed
DESCRIPTION:Office Closed
URL:https://rmofcana.ca/event/office-closed-115/
END:VEVENT
BEGIN:VEVENT
DTSTART;VALUE=DATE:20220211
DTEND;VALUE=DATE:20220212
DTSTAMP:20260419T150905
CREATED:20220420T151857Z
LAST-MODIFIED:20220420T151857Z
UID:9189-1644537600-1644623999@rmofcana.ca
SUMMARY:Office Closed
DESCRIPTION:Office Closed
URL:https://rmofcana.ca/event/office-closed-114/
END:VEVENT
BEGIN:VEVENT
DTSTART;VALUE=DATE:20220208
DTEND;VALUE=DATE:20220209
DTSTAMP:20260419T150905
CREATED:20220420T153654Z
LAST-MODIFIED:20220420T153654Z
UID:9289-1644278400-1644364799@rmofcana.ca
SUMMARY:Regular Council Meeting
DESCRIPTION:Regular Council Meeting – 9am
URL:https://rmofcana.ca/event/regular-council-meeting-13/
END:VEVENT
BEGIN:VEVENT
DTSTART;VALUE=DATE:20220204
DTEND;VALUE=DATE:20220205
DTSTAMP:20260419T150905
CREATED:20220420T151843Z
LAST-MODIFIED:20220420T151843Z
UID:9187-1643932800-1644019199@rmofcana.ca
SUMMARY:Office Closed
DESCRIPTION:Office Closed
URL:https://rmofcana.ca/event/office-closed-113/
END:VEVENT
BEGIN:VEVENT
DTSTART;VALUE=DATE:20220128
DTEND;VALUE=DATE:20220129
DTSTAMP:20260419T150905
CREATED:20211215T211010Z
LAST-MODIFIED:20211215T211010Z
UID:9124-1643328000-1643414399@rmofcana.ca
SUMMARY:Office Closed
DESCRIPTION:Office Closed
URL:https://rmofcana.ca/event/office-closed-112/
END:VEVENT
BEGIN:VEVENT
DTSTART;VALUE=DATE:20220121
DTEND;VALUE=DATE:20220122
DTSTAMP:20260419T150905
CREATED:20211215T205750Z
LAST-MODIFIED:20211215T205750Z
UID:9116-1642723200-1642809599@rmofcana.ca
SUMMARY:Office Closed
DESCRIPTION:Office Closed
URL:https://rmofcana.ca/event/office-closed-110/
END:VEVENT
BEGIN:VEVENT
DTSTART;VALUE=DATE:20220114
DTEND;VALUE=DATE:20220115
DTSTAMP:20260419T150905
CREATED:20211215T205145Z
LAST-MODIFIED:20211215T205145Z
UID:9114-1642118400-1642204799@rmofcana.ca
SUMMARY:Office Closed
DESCRIPTION:Office Closed
URL:https://rmofcana.ca/event/office-closed-109/
END:VEVENT
BEGIN:VEVENT
DTSTART;VALUE=DATE:20220111
DTEND;VALUE=DATE:20220112
DTSTAMP:20260419T150905
CREATED:20211215T205057Z
LAST-MODIFIED:20211215T205057Z
UID:9110-1641859200-1641945599@rmofcana.ca
SUMMARY:Regular Council Meeting
DESCRIPTION:Regular Council Meeting – 9am
URL:https://rmofcana.ca/event/regular-council-meeting-12/
END:VEVENT
BEGIN:VEVENT
DTSTART;VALUE=DATE:20220107
DTEND;VALUE=DATE:20220108
DTSTAMP:20260419T150905
CREATED:20211215T205129Z
LAST-MODIFIED:20211215T205129Z
UID:9112-1641513600-1641599999@rmofcana.ca
SUMMARY:Office Closed
DESCRIPTION:Office Closed
URL:https://rmofcana.ca/event/office-closed-108/
END:VEVENT
BEGIN:VEVENT
DTSTART;VALUE=DATE:20220103
DTEND;VALUE=DATE:20220104
DTSTAMP:20260419T150905
CREATED:20211215T205822Z
LAST-MODIFIED:20211215T210724Z
UID:9119-1641168000-1641254399@rmofcana.ca
SUMMARY:Office Closed
DESCRIPTION:Office Closed
URL:https://rmofcana.ca/event/office-closed-111/
END:VEVENT
BEGIN:VEVENT
DTSTART;VALUE=DATE:20211231
DTEND;VALUE=DATE:20220101
DTSTAMP:20260419T150905
CREATED:20210603T160231Z
LAST-MODIFIED:20211215T210818Z
UID:9016-1640908800-1640995199@rmofcana.ca
SUMMARY:Office Open - 2021 Taxes Due
DESCRIPTION:Office Open – 2021 Taxes Due
URL:https://rmofcana.ca/event/office-closed-new-years-eve/
END:VEVENT
BEGIN:VEVENT
DTSTART;VALUE=DATE:20211224
DTEND;VALUE=DATE:20211225
DTSTAMP:20260419T150905
CREATED:20210603T160205Z
LAST-MODIFIED:20210603T160205Z
UID:9014-1640304000-1640390399@rmofcana.ca
SUMMARY:Office Closed - Christmas Eve
DESCRIPTION:Office Closed – Christmas Eve
URL:https://rmofcana.ca/event/office-closed-christmas-eve-2/
END:VEVENT
BEGIN:VEVENT
DTSTART;VALUE=DATE:20211217
DTEND;VALUE=DATE:20211218
DTSTAMP:20260419T150905
CREATED:20210603T160123Z
LAST-MODIFIED:20210603T160123Z
UID:9012-1639699200-1639785599@rmofcana.ca
SUMMARY:Office Closed
DESCRIPTION:Office Closed
URL:https://rmofcana.ca/event/office-closed-107/
END:VEVENT
BEGIN:VEVENT
DTSTART;VALUE=DATE:20211214
DTEND;VALUE=DATE:20211215
DTSTAMP:20260419T150905
CREATED:20210603T160309Z
LAST-MODIFIED:20210603T160309Z
UID:9018-1639440000-1639526399@rmofcana.ca
SUMMARY:Council Meeting
DESCRIPTION:Regular Council Meeting – 9am
URL:https://rmofcana.ca/event/council-meeting-15/
END:VEVENT
BEGIN:VEVENT
DTSTART;VALUE=DATE:20211210
DTEND;VALUE=DATE:20211211
DTSTAMP:20260419T150905
CREATED:20210603T160057Z
LAST-MODIFIED:20210603T160057Z
UID:9010-1639094400-1639180799@rmofcana.ca
SUMMARY:Office Closed
DESCRIPTION:Office Closed
URL:https://rmofcana.ca/event/office-closed-106/
END:VEVENT
BEGIN:VEVENT
DTSTART;VALUE=DATE:20211203
DTEND;VALUE=DATE:20211204
DTSTAMP:20260419T150905
CREATED:20210603T160031Z
LAST-MODIFIED:20210603T160031Z
UID:9008-1638489600-1638575999@rmofcana.ca
SUMMARY:Office Closed
DESCRIPTION:Office Closed
URL:https://rmofcana.ca/event/office-closed-105/
END:VEVENT
END:VCALENDAR