BEGIN:VCALENDAR
VERSION:2.0
PRODID:-//RM of Cana - ECPv6.9.0//NONSGML v1.0//EN
CALSCALE:GREGORIAN
METHOD:PUBLISH
X-ORIGINAL-URL:https://rmofcana.ca
X-WR-CALDESC:Events for RM of Cana
REFRESH-INTERVAL;VALUE=DURATION:PT1H
X-Robots-Tag:noindex
X-PUBLISHED-TTL:PT1H
BEGIN:VTIMEZONE
TZID:America/Swift_Current
BEGIN:STANDARD
TZOFFSETFROM:-0600
TZOFFSETTO:-0600
TZNAME:CST
DTSTART:20250101T000000
END:STANDARD
END:VTIMEZONE
BEGIN:VEVENT
DTSTART;TZID=America/Swift_Current:20251003T080000
DTEND;TZID=America/Swift_Current:20251003T170000
DTSTAMP:20260419T153647
CREATED:20250129T181022Z
LAST-MODIFIED:20250129T181022Z
UID:10133-1759478400-1759510800@rmofcana.ca
SUMMARY:Office Closed
DESCRIPTION:
URL:https://rmofcana.ca/event/office-closed-270/
END:VEVENT
BEGIN:VEVENT
DTSTART;TZID=America/Swift_Current:20251010T080000
DTEND;TZID=America/Swift_Current:20251010T170000
DTSTAMP:20260419T153647
CREATED:20250129T181038Z
LAST-MODIFIED:20250129T181038Z
UID:10135-1760083200-1760115600@rmofcana.ca
SUMMARY:Office Closed
DESCRIPTION:
URL:https://rmofcana.ca/event/office-closed-271/
END:VEVENT
BEGIN:VEVENT
DTSTART;VALUE=DATE:20251013
DTEND;VALUE=DATE:20251014
DTSTAMP:20260419T153647
CREATED:20250409T183113Z
LAST-MODIFIED:20250409T183113Z
UID:10204-1760313600-1760399999@rmofcana.ca
SUMMARY:Office Closed Thanksgiving Day
DESCRIPTION:
URL:https://rmofcana.ca/event/office-closed-thanksgiving-day-3/
END:VEVENT
BEGIN:VEVENT
DTSTART;TZID=America/Swift_Current:20251014T090000
DTEND;TZID=America/Swift_Current:20251014T170000
DTSTAMP:20260419T153647
CREATED:20240430T162408Z
LAST-MODIFIED:20240430T162408Z
UID:9867-1760432400-1760461200@rmofcana.ca
SUMMARY:Council Meeting
DESCRIPTION:
URL:https://rmofcana.ca/event/council-meeting-42/
END:VEVENT
BEGIN:VEVENT
DTSTART;TZID=America/Swift_Current:20251017T080000
DTEND;TZID=America/Swift_Current:20251017T170000
DTSTAMP:20260419T153647
CREATED:20250129T181055Z
LAST-MODIFIED:20250129T181055Z
UID:10137-1760688000-1760720400@rmofcana.ca
SUMMARY:Office Closed
DESCRIPTION:
URL:https://rmofcana.ca/event/office-closed-272/
END:VEVENT
BEGIN:VEVENT
DTSTART;TZID=America/Swift_Current:20251024T080000
DTEND;TZID=America/Swift_Current:20251024T170000
DTSTAMP:20260419T153647
CREATED:20250129T181111Z
LAST-MODIFIED:20250129T181111Z
UID:10139-1761292800-1761325200@rmofcana.ca
SUMMARY:Office Closed
DESCRIPTION:
URL:https://rmofcana.ca/event/office-closed-273/
END:VEVENT
BEGIN:VEVENT
DTSTART;TZID=America/Swift_Current:20251031T080000
DTEND;TZID=America/Swift_Current:20251031T170000
DTSTAMP:20260419T153647
CREATED:20250129T181127Z
LAST-MODIFIED:20250129T181127Z
UID:10141-1761897600-1761930000@rmofcana.ca
SUMMARY:Office Closed
DESCRIPTION:
URL:https://rmofcana.ca/event/office-closed-274/
END:VEVENT
BEGIN:VEVENT
DTSTART;TZID=America/Swift_Current:20251107T080000
DTEND;TZID=America/Swift_Current:20251107T170000
DTSTAMP:20260419T153647
CREATED:20250129T181145Z
LAST-MODIFIED:20250129T181145Z
UID:10143-1762502400-1762534800@rmofcana.ca
SUMMARY:Office Closed
DESCRIPTION:
URL:https://rmofcana.ca/event/office-closed-275/
END:VEVENT
BEGIN:VEVENT
DTSTART;VALUE=DATE:20251111
DTEND;VALUE=DATE:20251112
DTSTAMP:20260419T153647
CREATED:20250409T183211Z
LAST-MODIFIED:20250409T183211Z
UID:10206-1762819200-1762905599@rmofcana.ca
SUMMARY:Office Closed Remembrance Day
DESCRIPTION:
URL:https://rmofcana.ca/event/office-closed-remembrance-day-5/
END:VEVENT
BEGIN:VEVENT
DTSTART;TZID=America/Swift_Current:20251114T080000
DTEND;TZID=America/Swift_Current:20251114T170000
DTSTAMP:20260419T153647
CREATED:20250129T181204Z
LAST-MODIFIED:20250129T181204Z
UID:10145-1763107200-1763139600@rmofcana.ca
SUMMARY:Office Closed
DESCRIPTION:
URL:https://rmofcana.ca/event/office-closed-276/
END:VEVENT
BEGIN:VEVENT
DTSTART;TZID=America/Swift_Current:20251121T080000
DTEND;TZID=America/Swift_Current:20251121T170000
DTSTAMP:20260419T153647
CREATED:20250129T181221Z
LAST-MODIFIED:20250129T181221Z
UID:10147-1763712000-1763744400@rmofcana.ca
SUMMARY:Office Closed
DESCRIPTION:
URL:https://rmofcana.ca/event/office-closed-277/
END:VEVENT
BEGIN:VEVENT
DTSTART;TZID=America/Swift_Current:20251128T080000
DTEND;TZID=America/Swift_Current:20251128T170000
DTSTAMP:20260419T153647
CREATED:20250129T181235Z
LAST-MODIFIED:20250129T181235Z
UID:10149-1764316800-1764349200@rmofcana.ca
SUMMARY:Office Closed
DESCRIPTION:
URL:https://rmofcana.ca/event/office-closed-278/
END:VEVENT
BEGIN:VEVENT
DTSTART;TZID=America/Swift_Current:20251205T080000
DTEND;TZID=America/Swift_Current:20251205T170000
DTSTAMP:20260419T153647
CREATED:20250129T181251Z
LAST-MODIFIED:20250129T181251Z
UID:10151-1764921600-1764954000@rmofcana.ca
SUMMARY:Office Closed
DESCRIPTION:
URL:https://rmofcana.ca/event/office-closed-279/
END:VEVENT
BEGIN:VEVENT
DTSTART;TZID=America/Swift_Current:20251209T090000
DTEND;TZID=America/Swift_Current:20251209T170000
DTSTAMP:20260419T153647
CREATED:20240430T162437Z
LAST-MODIFIED:20240430T162437Z
UID:9869-1765270800-1765299600@rmofcana.ca
SUMMARY:Council Meeting
DESCRIPTION:
URL:https://rmofcana.ca/event/council-meeting-43/
END:VEVENT
BEGIN:VEVENT
DTSTART;TZID=America/Swift_Current:20251212T080000
DTEND;TZID=America/Swift_Current:20251212T170000
DTSTAMP:20260419T153647
CREATED:20250129T181320Z
LAST-MODIFIED:20250129T181320Z
UID:10155-1765526400-1765558800@rmofcana.ca
SUMMARY:Office Closed
DESCRIPTION:
URL:https://rmofcana.ca/event/office-closed-281/
END:VEVENT
BEGIN:VEVENT
DTSTART;TZID=America/Swift_Current:20251219T080000
DTEND;TZID=America/Swift_Current:20251219T170000
DTSTAMP:20260419T153647
CREATED:20250129T181350Z
LAST-MODIFIED:20250129T181350Z
UID:10159-1766131200-1766163600@rmofcana.ca
SUMMARY:Office Closed
DESCRIPTION:
URL:https://rmofcana.ca/event/office-closed-283/
END:VEVENT
BEGIN:VEVENT
DTSTART;VALUE=DATE:20251225
DTEND;VALUE=DATE:20251226
DTSTAMP:20260419T153647
CREATED:20250409T183244Z
LAST-MODIFIED:20250409T183244Z
UID:10208-1766620800-1766707199@rmofcana.ca
SUMMARY:Office Closed Christmas Day
DESCRIPTION:
URL:https://rmofcana.ca/event/office-closed-christmas-day-3/
END:VEVENT
BEGIN:VEVENT
DTSTART;TZID=America/Swift_Current:20251226T080000
DTEND;TZID=America/Swift_Current:20251226T170000
DTSTAMP:20260419T153647
CREATED:20250409T183630Z
LAST-MODIFIED:20250409T183732Z
UID:10211-1766736000-1766768400@rmofcana.ca
SUMMARY:Office Closed
DESCRIPTION:
URL:https://rmofcana.ca/event/office-closed-0800-400/
END:VEVENT
BEGIN:VEVENT
DTSTART;TZID=America/Swift_Current:20260213T080000
DTEND;TZID=America/Swift_Current:20260213T170000
DTSTAMP:20260419T153647
CREATED:20260211T170357Z
LAST-MODIFIED:20260211T170854Z
UID:10372-1770969600-1771002000@rmofcana.ca
SUMMARY:Office Closed
DESCRIPTION:
URL:https://rmofcana.ca/event/office-closed-291/
END:VEVENT
BEGIN:VEVENT
DTSTART;TZID=America/Swift_Current:20260216T080000
DTEND;TZID=America/Swift_Current:20260216T170000
DTSTAMP:20260419T153647
CREATED:20260211T165736Z
LAST-MODIFIED:20260211T165736Z
UID:10356-1771228800-1771261200@rmofcana.ca
SUMMARY:Office Closed
DESCRIPTION:
URL:https://rmofcana.ca/event/office-closed-282/
END:VEVENT
BEGIN:VEVENT
DTSTART;TZID=America/Swift_Current:20260220T080000
DTEND;TZID=America/Swift_Current:20260220T170000
DTSTAMP:20260419T153647
CREATED:20260211T170430Z
LAST-MODIFIED:20260211T170430Z
UID:10374-1771574400-1771606800@rmofcana.ca
SUMMARY:Office Closed
DESCRIPTION:
URL:https://rmofcana.ca/event/office-closed-292/
END:VEVENT
BEGIN:VEVENT
DTSTART;TZID=America/Swift_Current:20260227T080000
DTEND;TZID=America/Swift_Current:20260227T170000
DTSTAMP:20260419T153647
CREATED:20260211T170457Z
LAST-MODIFIED:20260211T170457Z
UID:10376-1772179200-1772211600@rmofcana.ca
SUMMARY:Office Closed
DESCRIPTION:
URL:https://rmofcana.ca/event/office-closed-293/
END:VEVENT
BEGIN:VEVENT
DTSTART;TZID=America/Swift_Current:20260306T080000
DTEND;TZID=America/Swift_Current:20260306T170000
DTSTAMP:20260419T153647
CREATED:20260211T170515Z
LAST-MODIFIED:20260211T170515Z
UID:10378-1772784000-1772816400@rmofcana.ca
SUMMARY:Office Closed
DESCRIPTION:
URL:https://rmofcana.ca/event/office-closed-294/
END:VEVENT
BEGIN:VEVENT
DTSTART;TZID=America/Swift_Current:20260313T080000
DTEND;TZID=America/Swift_Current:20260313T170000
DTSTAMP:20260419T153647
CREATED:20260211T170611Z
LAST-MODIFIED:20260211T170611Z
UID:10382-1773388800-1773421200@rmofcana.ca
SUMMARY:Office Closed
DESCRIPTION:
URL:https://rmofcana.ca/event/office-closed-296/
END:VEVENT
BEGIN:VEVENT
DTSTART;TZID=America/Swift_Current:20260317T080000
DTEND;TZID=America/Swift_Current:20260317T170000
DTSTAMP:20260419T153647
CREATED:20260211T165246Z
LAST-MODIFIED:20260211T165246Z
UID:10334-1773734400-1773766800@rmofcana.ca
SUMMARY:Council Meeting
DESCRIPTION:
URL:https://rmofcana.ca/event/council-meeting-45/
END:VEVENT
BEGIN:VEVENT
DTSTART;TZID=America/Swift_Current:20260320T080000
DTEND;TZID=America/Swift_Current:20260320T170000
DTSTAMP:20260419T153647
CREATED:20260211T171022Z
LAST-MODIFIED:20260211T171022Z
UID:10384-1773993600-1774026000@rmofcana.ca
SUMMARY:Office Closed
DESCRIPTION:
URL:https://rmofcana.ca/event/office-closed-297/
END:VEVENT
BEGIN:VEVENT
DTSTART;TZID=America/Swift_Current:20260327T080000
DTEND;TZID=America/Swift_Current:20260327T170000
DTSTAMP:20260419T153647
CREATED:20260211T171040Z
LAST-MODIFIED:20260211T171040Z
UID:10386-1774598400-1774630800@rmofcana.ca
SUMMARY:Office Closed
DESCRIPTION:
URL:https://rmofcana.ca/event/office-closed-298/
END:VEVENT
BEGIN:VEVENT
DTSTART;TZID=America/Swift_Current:20260331T080000
DTEND;TZID=America/Swift_Current:20260331T170000
DTSTAMP:20260419T153647
CREATED:20260211T171127Z
LAST-MODIFIED:20260211T171127Z
UID:10389-1774944000-1774976400@rmofcana.ca
SUMMARY:Office Closed for Training
DESCRIPTION:
URL:https://rmofcana.ca/event/office-closed-for-training/
END:VEVENT
BEGIN:VEVENT
DTSTART;TZID=America/Swift_Current:20260403T080000
DTEND;TZID=America/Swift_Current:20260403T170000
DTSTAMP:20260419T153647
CREATED:20260211T165815Z
LAST-MODIFIED:20260211T165815Z
UID:10358-1775203200-1775235600@rmofcana.ca
SUMMARY:Office Closed
DESCRIPTION:
URL:https://rmofcana.ca/event/office-closed-284/
END:VEVENT
BEGIN:VEVENT
DTSTART;TZID=America/Swift_Current:20260410T080000
DTEND;TZID=America/Swift_Current:20260410T170000
DTSTAMP:20260419T153647
CREATED:20260211T171146Z
LAST-MODIFIED:20260211T171146Z
UID:10391-1775808000-1775840400@rmofcana.ca
SUMMARY:Office Closed
DESCRIPTION:
URL:https://rmofcana.ca/event/office-closed-299/
END:VEVENT
END:VCALENDAR