BEGIN:VCALENDAR
VERSION:2.0
PRODID:-//RM of Cana - ECPv6.9.0//NONSGML v1.0//EN
CALSCALE:GREGORIAN
METHOD:PUBLISH
X-WR-CALNAME:RM of Cana
X-ORIGINAL-URL:https://rmofcana.ca
X-WR-CALDESC:Events for RM of Cana
REFRESH-INTERVAL;VALUE=DURATION:PT1H
X-Robots-Tag:noindex
X-PUBLISHED-TTL:PT1H
BEGIN:VTIMEZONE
TZID:America/Swift_Current
BEGIN:STANDARD
TZOFFSETFROM:-0600
TZOFFSETTO:-0600
TZNAME:CST
DTSTART:20210101T000000
END:STANDARD
END:VTIMEZONE
BEGIN:VEVENT
DTSTART;VALUE=DATE:20220114
DTEND;VALUE=DATE:20220115
DTSTAMP:20260419T173611
CREATED:20211215T205145Z
LAST-MODIFIED:20211215T205145Z
UID:9114-1642118400-1642204799@rmofcana.ca
SUMMARY:Office Closed
DESCRIPTION:Office Closed
URL:https://rmofcana.ca/event/office-closed-109/
END:VEVENT
BEGIN:VEVENT
DTSTART;VALUE=DATE:20220111
DTEND;VALUE=DATE:20220112
DTSTAMP:20260419T173611
CREATED:20211215T205057Z
LAST-MODIFIED:20211215T205057Z
UID:9110-1641859200-1641945599@rmofcana.ca
SUMMARY:Regular Council Meeting
DESCRIPTION:Regular Council Meeting – 9am
URL:https://rmofcana.ca/event/regular-council-meeting-12/
END:VEVENT
BEGIN:VEVENT
DTSTART;VALUE=DATE:20220107
DTEND;VALUE=DATE:20220108
DTSTAMP:20260419T173611
CREATED:20211215T205129Z
LAST-MODIFIED:20211215T205129Z
UID:9112-1641513600-1641599999@rmofcana.ca
SUMMARY:Office Closed
DESCRIPTION:Office Closed
URL:https://rmofcana.ca/event/office-closed-108/
END:VEVENT
BEGIN:VEVENT
DTSTART;VALUE=DATE:20220103
DTEND;VALUE=DATE:20220104
DTSTAMP:20260419T173611
CREATED:20211215T205822Z
LAST-MODIFIED:20211215T210724Z
UID:9119-1641168000-1641254399@rmofcana.ca
SUMMARY:Office Closed
DESCRIPTION:Office Closed
URL:https://rmofcana.ca/event/office-closed-111/
END:VEVENT
BEGIN:VEVENT
DTSTART;VALUE=DATE:20211231
DTEND;VALUE=DATE:20220101
DTSTAMP:20260419T173611
CREATED:20210603T160231Z
LAST-MODIFIED:20211215T210818Z
UID:9016-1640908800-1640995199@rmofcana.ca
SUMMARY:Office Open - 2021 Taxes Due
DESCRIPTION:Office Open – 2021 Taxes Due
URL:https://rmofcana.ca/event/office-closed-new-years-eve/
END:VEVENT
BEGIN:VEVENT
DTSTART;VALUE=DATE:20211224
DTEND;VALUE=DATE:20211225
DTSTAMP:20260419T173611
CREATED:20210603T160205Z
LAST-MODIFIED:20210603T160205Z
UID:9014-1640304000-1640390399@rmofcana.ca
SUMMARY:Office Closed - Christmas Eve
DESCRIPTION:Office Closed – Christmas Eve
URL:https://rmofcana.ca/event/office-closed-christmas-eve-2/
END:VEVENT
BEGIN:VEVENT
DTSTART;VALUE=DATE:20211217
DTEND;VALUE=DATE:20211218
DTSTAMP:20260419T173611
CREATED:20210603T160123Z
LAST-MODIFIED:20210603T160123Z
UID:9012-1639699200-1639785599@rmofcana.ca
SUMMARY:Office Closed
DESCRIPTION:Office Closed
URL:https://rmofcana.ca/event/office-closed-107/
END:VEVENT
BEGIN:VEVENT
DTSTART;VALUE=DATE:20211214
DTEND;VALUE=DATE:20211215
DTSTAMP:20260419T173611
CREATED:20210603T160309Z
LAST-MODIFIED:20210603T160309Z
UID:9018-1639440000-1639526399@rmofcana.ca
SUMMARY:Council Meeting
DESCRIPTION:Regular Council Meeting – 9am
URL:https://rmofcana.ca/event/council-meeting-15/
END:VEVENT
BEGIN:VEVENT
DTSTART;VALUE=DATE:20211210
DTEND;VALUE=DATE:20211211
DTSTAMP:20260419T173611
CREATED:20210603T160057Z
LAST-MODIFIED:20210603T160057Z
UID:9010-1639094400-1639180799@rmofcana.ca
SUMMARY:Office Closed
DESCRIPTION:Office Closed
URL:https://rmofcana.ca/event/office-closed-106/
END:VEVENT
BEGIN:VEVENT
DTSTART;VALUE=DATE:20211203
DTEND;VALUE=DATE:20211204
DTSTAMP:20260419T173611
CREATED:20210603T160031Z
LAST-MODIFIED:20210603T160031Z
UID:9008-1638489600-1638575999@rmofcana.ca
SUMMARY:Office Closed
DESCRIPTION:Office Closed
URL:https://rmofcana.ca/event/office-closed-105/
END:VEVENT
BEGIN:VEVENT
DTSTART;VALUE=DATE:20211126
DTEND;VALUE=DATE:20211127
DTSTAMP:20260419T173611
CREATED:20210603T155248Z
LAST-MODIFIED:20210603T155248Z
UID:9002-1637884800-1637971199@rmofcana.ca
SUMMARY:Office Closed
DESCRIPTION:Office Closed
URL:https://rmofcana.ca/event/office-closed-104/
END:VEVENT
BEGIN:VEVENT
DTSTART;VALUE=DATE:20211119
DTEND;VALUE=DATE:20211120
DTSTAMP:20260419T173611
CREATED:20210603T155226Z
LAST-MODIFIED:20210603T155226Z
UID:9000-1637280000-1637366399@rmofcana.ca
SUMMARY:Office Closed
DESCRIPTION:Office Closed
URL:https://rmofcana.ca/event/office-closed-103/
END:VEVENT
BEGIN:VEVENT
DTSTART;VALUE=DATE:20211112
DTEND;VALUE=DATE:20211113
DTSTAMP:20260419T173611
CREATED:20210603T155155Z
LAST-MODIFIED:20210603T155155Z
UID:8998-1636675200-1636761599@rmofcana.ca
SUMMARY:Office Closed
DESCRIPTION:Office Closed
URL:https://rmofcana.ca/event/office-closed-102/
END:VEVENT
BEGIN:VEVENT
DTSTART;VALUE=DATE:20211111
DTEND;VALUE=DATE:20211112
DTSTAMP:20260419T173611
CREATED:20210603T155717Z
LAST-MODIFIED:20210603T155717Z
UID:9006-1636588800-1636675199@rmofcana.ca
SUMMARY:Office Closed - Remembrance Day
DESCRIPTION:Office Closed – Remembrance Day
URL:https://rmofcana.ca/event/office-closed-remembrance-day-3/
END:VEVENT
BEGIN:VEVENT
DTSTART;VALUE=DATE:20211109
DTEND;VALUE=DATE:20211110
DTSTAMP:20260419T173611
CREATED:20210603T155522Z
LAST-MODIFIED:20211013T174235Z
UID:9004-1636416000-1636502399@rmofcana.ca
SUMMARY:Council Meeting
DESCRIPTION:Regular Council Meeting – 7am
URL:https://rmofcana.ca/event/council-meeting-14/
END:VEVENT
BEGIN:VEVENT
DTSTART;VALUE=DATE:20211105
DTEND;VALUE=DATE:20211106
DTSTAMP:20260419T173611
CREATED:20210603T155131Z
LAST-MODIFIED:20210603T155131Z
UID:8996-1636070400-1636156799@rmofcana.ca
SUMMARY:Office Closed
DESCRIPTION:Office Closed
URL:https://rmofcana.ca/event/office-closed-101/
END:VEVENT
BEGIN:VEVENT
DTSTART;VALUE=DATE:20211029
DTEND;VALUE=DATE:20211030
DTSTAMP:20260419T173611
CREATED:20210603T154055Z
LAST-MODIFIED:20210603T154055Z
UID:8990-1635465600-1635551999@rmofcana.ca
SUMMARY:Office Closed
DESCRIPTION:Office Closed
URL:https://rmofcana.ca/event/office-closed-100/
END:VEVENT
BEGIN:VEVENT
DTSTART;VALUE=DATE:20211022
DTEND;VALUE=DATE:20211023
DTSTAMP:20260419T173611
CREATED:20210603T154034Z
LAST-MODIFIED:20210603T154034Z
UID:8988-1634860800-1634947199@rmofcana.ca
SUMMARY:Office Closed
DESCRIPTION:Office Closed
URL:https://rmofcana.ca/event/office-closed-99/
END:VEVENT
BEGIN:VEVENT
DTSTART;VALUE=DATE:20211015
DTEND;VALUE=DATE:20211016
DTSTAMP:20260419T173611
CREATED:20210603T154016Z
LAST-MODIFIED:20210603T154016Z
UID:8986-1634256000-1634342399@rmofcana.ca
SUMMARY:Office Closed
DESCRIPTION:Office Closed
URL:https://rmofcana.ca/event/office-closed-98/
END:VEVENT
BEGIN:VEVENT
DTSTART;VALUE=DATE:20211015
DTEND;VALUE=DATE:20211016
DTSTAMP:20260419T173611
CREATED:20210603T153955Z
LAST-MODIFIED:20210603T153955Z
UID:8984-1634256000-1634342399@rmofcana.ca
SUMMARY:Office Closed
DESCRIPTION:Office Closed
URL:https://rmofcana.ca/event/office-closed-97/
END:VEVENT
BEGIN:VEVENT
DTSTART;VALUE=DATE:20211012
DTEND;VALUE=DATE:20211013
DTSTAMP:20260419T173611
CREATED:20210603T155106Z
LAST-MODIFIED:20210603T155106Z
UID:8994-1633996800-1634083199@rmofcana.ca
SUMMARY:Council Meeting
DESCRIPTION:Regular Council Meeting – 8am
URL:https://rmofcana.ca/event/council-meeting-13/
END:VEVENT
BEGIN:VEVENT
DTSTART;VALUE=DATE:20211011
DTEND;VALUE=DATE:20211012
DTSTAMP:20260419T173611
CREATED:20210603T154124Z
LAST-MODIFIED:20210603T154124Z
UID:8992-1633910400-1633996799@rmofcana.ca
SUMMARY:Office Closed - Thanksgiving
DESCRIPTION:Office Closed – Thanksgiving
URL:https://rmofcana.ca/event/office-closed-thanksgiving/
END:VEVENT
BEGIN:VEVENT
DTSTART;VALUE=DATE:20211008
DTEND;VALUE=DATE:20211009
DTSTAMP:20260419T173611
CREATED:20210603T153936Z
LAST-MODIFIED:20210603T153936Z
UID:8982-1633651200-1633737599@rmofcana.ca
SUMMARY:Office Closed
DESCRIPTION:Office Closed
URL:https://rmofcana.ca/event/office-closed-96/
END:VEVENT
BEGIN:VEVENT
DTSTART;VALUE=DATE:20211001
DTEND;VALUE=DATE:20211002
DTSTAMP:20260419T173611
CREATED:20210603T153916Z
LAST-MODIFIED:20210603T153916Z
UID:8980-1633046400-1633132799@rmofcana.ca
SUMMARY:Office Closed
DESCRIPTION:Office Closed
URL:https://rmofcana.ca/event/office-closed-95/
END:VEVENT
BEGIN:VEVENT
DTSTART;VALUE=DATE:20210924
DTEND;VALUE=DATE:20210925
DTSTAMP:20260419T173611
CREATED:20210603T153703Z
LAST-MODIFIED:20210603T153703Z
UID:8972-1632441600-1632527999@rmofcana.ca
SUMMARY:Office Closed
DESCRIPTION:Office Closed
URL:https://rmofcana.ca/event/office-closed-94/
END:VEVENT
BEGIN:VEVENT
DTSTART;VALUE=DATE:20210917
DTEND;VALUE=DATE:20210918
DTSTAMP:20260419T173611
CREATED:20210603T153644Z
LAST-MODIFIED:20210603T153644Z
UID:8970-1631836800-1631923199@rmofcana.ca
SUMMARY:Office Closed
DESCRIPTION:Office Closed
URL:https://rmofcana.ca/event/office-closed-93/
END:VEVENT
BEGIN:VEVENT
DTSTART;VALUE=DATE:20210914
DTEND;VALUE=DATE:20210915
DTSTAMP:20260419T173611
CREATED:20210603T153734Z
LAST-MODIFIED:20210603T153734Z
UID:8974-1631577600-1631663999@rmofcana.ca
SUMMARY:Council Meeting
DESCRIPTION:Regular Council Meeting – 8am
URL:https://rmofcana.ca/event/council-meeting-12/
END:VEVENT
BEGIN:VEVENT
DTSTART;VALUE=DATE:20210910
DTEND;VALUE=DATE:20210911
DTSTAMP:20260419T173611
CREATED:20210603T153627Z
LAST-MODIFIED:20210603T153627Z
UID:8968-1631232000-1631318399@rmofcana.ca
SUMMARY:Office Closed
DESCRIPTION:Office Closed
URL:https://rmofcana.ca/event/office-closed-92/
END:VEVENT
BEGIN:VEVENT
DTSTART;VALUE=DATE:20210906
DTEND;VALUE=DATE:20210907
DTSTAMP:20260419T173611
CREATED:20210603T153848Z
LAST-MODIFIED:20210603T153848Z
UID:8978-1630886400-1630972799@rmofcana.ca
SUMMARY:Office Closed - Labour Day
DESCRIPTION:Office Closed – Labour Day
URL:https://rmofcana.ca/event/office-closed-labour-day-3/
END:VEVENT
BEGIN:VEVENT
DTSTART;VALUE=DATE:20210903
DTEND;VALUE=DATE:20210904
DTSTAMP:20260419T173611
CREATED:20210603T153605Z
LAST-MODIFIED:20210603T153605Z
UID:8966-1630627200-1630713599@rmofcana.ca
SUMMARY:Office Closed
DESCRIPTION:Office Closed
URL:https://rmofcana.ca/event/office-closed-91/
END:VEVENT
END:VCALENDAR