BEGIN:VCALENDAR
VERSION:2.0
PRODID:-//RM of Cana - ECPv6.9.0//NONSGML v1.0//EN
CALSCALE:GREGORIAN
METHOD:PUBLISH
X-WR-CALNAME:RM of Cana
X-ORIGINAL-URL:https://rmofcana.ca
X-WR-CALDESC:Events for RM of Cana
REFRESH-INTERVAL;VALUE=DURATION:PT1H
X-Robots-Tag:noindex
X-PUBLISHED-TTL:PT1H
BEGIN:VTIMEZONE
TZID:America/Swift_Current
BEGIN:STANDARD
TZOFFSETFROM:-0600
TZOFFSETTO:-0600
TZNAME:CST
DTSTART:20260101T000000
END:STANDARD
END:VTIMEZONE
BEGIN:VEVENT
DTSTART;TZID=America/Swift_Current:20260220T080000
DTEND;TZID=America/Swift_Current:20260220T170000
DTSTAMP:20260419T175338
CREATED:20260211T170430Z
LAST-MODIFIED:20260211T170430Z
UID:10374-1771574400-1771606800@rmofcana.ca
SUMMARY:Office Closed
DESCRIPTION:
URL:https://rmofcana.ca/event/office-closed-292/
END:VEVENT
BEGIN:VEVENT
DTSTART;TZID=America/Swift_Current:20260227T080000
DTEND;TZID=America/Swift_Current:20260227T170000
DTSTAMP:20260419T175338
CREATED:20260211T170457Z
LAST-MODIFIED:20260211T170457Z
UID:10376-1772179200-1772211600@rmofcana.ca
SUMMARY:Office Closed
DESCRIPTION:
URL:https://rmofcana.ca/event/office-closed-293/
END:VEVENT
BEGIN:VEVENT
DTSTART;TZID=America/Swift_Current:20260306T080000
DTEND;TZID=America/Swift_Current:20260306T170000
DTSTAMP:20260419T175338
CREATED:20260211T170515Z
LAST-MODIFIED:20260211T170515Z
UID:10378-1772784000-1772816400@rmofcana.ca
SUMMARY:Office Closed
DESCRIPTION:
URL:https://rmofcana.ca/event/office-closed-294/
END:VEVENT
BEGIN:VEVENT
DTSTART;TZID=America/Swift_Current:20260313T080000
DTEND;TZID=America/Swift_Current:20260313T170000
DTSTAMP:20260419T175338
CREATED:20260211T170611Z
LAST-MODIFIED:20260211T170611Z
UID:10382-1773388800-1773421200@rmofcana.ca
SUMMARY:Office Closed
DESCRIPTION:
URL:https://rmofcana.ca/event/office-closed-296/
END:VEVENT
BEGIN:VEVENT
DTSTART;TZID=America/Swift_Current:20260317T080000
DTEND;TZID=America/Swift_Current:20260317T170000
DTSTAMP:20260419T175338
CREATED:20260211T165246Z
LAST-MODIFIED:20260211T165246Z
UID:10334-1773734400-1773766800@rmofcana.ca
SUMMARY:Council Meeting
DESCRIPTION:
URL:https://rmofcana.ca/event/council-meeting-45/
END:VEVENT
BEGIN:VEVENT
DTSTART;TZID=America/Swift_Current:20260320T080000
DTEND;TZID=America/Swift_Current:20260320T170000
DTSTAMP:20260419T175338
CREATED:20260211T171022Z
LAST-MODIFIED:20260211T171022Z
UID:10384-1773993600-1774026000@rmofcana.ca
SUMMARY:Office Closed
DESCRIPTION:
URL:https://rmofcana.ca/event/office-closed-297/
END:VEVENT
BEGIN:VEVENT
DTSTART;TZID=America/Swift_Current:20260327T080000
DTEND;TZID=America/Swift_Current:20260327T170000
DTSTAMP:20260419T175338
CREATED:20260211T171040Z
LAST-MODIFIED:20260211T171040Z
UID:10386-1774598400-1774630800@rmofcana.ca
SUMMARY:Office Closed
DESCRIPTION:
URL:https://rmofcana.ca/event/office-closed-298/
END:VEVENT
BEGIN:VEVENT
DTSTART;TZID=America/Swift_Current:20260331T080000
DTEND;TZID=America/Swift_Current:20260331T170000
DTSTAMP:20260419T175338
CREATED:20260211T171127Z
LAST-MODIFIED:20260211T171127Z
UID:10389-1774944000-1774976400@rmofcana.ca
SUMMARY:Office Closed for Training
DESCRIPTION:
URL:https://rmofcana.ca/event/office-closed-for-training/
END:VEVENT
BEGIN:VEVENT
DTSTART;TZID=America/Swift_Current:20260403T080000
DTEND;TZID=America/Swift_Current:20260403T170000
DTSTAMP:20260419T175338
CREATED:20260211T165815Z
LAST-MODIFIED:20260211T165815Z
UID:10358-1775203200-1775235600@rmofcana.ca
SUMMARY:Office Closed
DESCRIPTION:
URL:https://rmofcana.ca/event/office-closed-284/
END:VEVENT
BEGIN:VEVENT
DTSTART;TZID=America/Swift_Current:20260410T080000
DTEND;TZID=America/Swift_Current:20260410T170000
DTSTAMP:20260419T175338
CREATED:20260211T171146Z
LAST-MODIFIED:20260211T171146Z
UID:10391-1775808000-1775840400@rmofcana.ca
SUMMARY:Office Closed
DESCRIPTION:
URL:https://rmofcana.ca/event/office-closed-299/
END:VEVENT
BEGIN:VEVENT
DTSTART;TZID=America/Swift_Current:20260414T080000
DTEND;TZID=America/Swift_Current:20260414T170000
DTSTAMP:20260419T175338
CREATED:20260211T165353Z
LAST-MODIFIED:20260211T165353Z
UID:10337-1776153600-1776186000@rmofcana.ca
SUMMARY:Council Meeting
DESCRIPTION:
URL:https://rmofcana.ca/event/council-meeting-46/
END:VEVENT
BEGIN:VEVENT
DTSTART;TZID=America/Swift_Current:20260417T080000
DTEND;TZID=America/Swift_Current:20260417T170000
DTSTAMP:20260419T175338
CREATED:20260211T171201Z
LAST-MODIFIED:20260211T171201Z
UID:10393-1776412800-1776445200@rmofcana.ca
SUMMARY:Office Closed
DESCRIPTION:
URL:https://rmofcana.ca/event/office-closed-300/
END:VEVENT
BEGIN:VEVENT
DTSTART;TZID=America/Swift_Current:20260424T080000
DTEND;TZID=America/Swift_Current:20260424T170000
DTSTAMP:20260419T175338
CREATED:20260211T171221Z
LAST-MODIFIED:20260211T171221Z
UID:10395-1777017600-1777050000@rmofcana.ca
SUMMARY:Office Closed
DESCRIPTION:
URL:https://rmofcana.ca/event/office-closed-301/
END:VEVENT
BEGIN:VEVENT
DTSTART;TZID=America/Swift_Current:20260501T080000
DTEND;TZID=America/Swift_Current:20260501T170000
DTSTAMP:20260419T175338
CREATED:20260211T171251Z
LAST-MODIFIED:20260211T171251Z
UID:10397-1777622400-1777654800@rmofcana.ca
SUMMARY:Office Closed
DESCRIPTION:
URL:https://rmofcana.ca/event/office-closed-302/
END:VEVENT
BEGIN:VEVENT
DTSTART;TZID=America/Swift_Current:20260508T080000
DTEND;TZID=America/Swift_Current:20260508T170000
DTSTAMP:20260419T175338
CREATED:20260211T171306Z
LAST-MODIFIED:20260211T171306Z
UID:10399-1778227200-1778259600@rmofcana.ca
SUMMARY:Office Closed
DESCRIPTION:
URL:https://rmofcana.ca/event/office-closed-303/
END:VEVENT
BEGIN:VEVENT
DTSTART;TZID=America/Swift_Current:20260515T080000
DTEND;TZID=America/Swift_Current:20260515T170000
DTSTAMP:20260419T175338
CREATED:20260211T171324Z
LAST-MODIFIED:20260211T171324Z
UID:10401-1778832000-1778864400@rmofcana.ca
SUMMARY:Office Closed
DESCRIPTION:
URL:https://rmofcana.ca/event/office-closed-304/
END:VEVENT
BEGIN:VEVENT
DTSTART;TZID=America/Swift_Current:20260518T080000
DTEND;TZID=America/Swift_Current:20260518T170000
DTSTAMP:20260419T175338
CREATED:20260211T165855Z
LAST-MODIFIED:20260211T173404Z
UID:10360-1779091200-1779123600@rmofcana.ca
SUMMARY:Office Closed Victoria Day
DESCRIPTION:
URL:https://rmofcana.ca/event/office-closed-285/
END:VEVENT
BEGIN:VEVENT
DTSTART;TZID=America/Swift_Current:20260519T080000
DTEND;TZID=America/Swift_Current:20260519T170000
DTSTAMP:20260419T175338
CREATED:20260211T165432Z
LAST-MODIFIED:20260415T154634Z
UID:10339-1779177600-1779210000@rmofcana.ca
SUMMARY:Council Meeting
DESCRIPTION:
URL:https://rmofcana.ca/event/council-meeting-47/
END:VEVENT
BEGIN:VEVENT
DTSTART;TZID=America/Swift_Current:20260522T080000
DTEND;TZID=America/Swift_Current:20260522T170000
DTSTAMP:20260419T175338
CREATED:20260211T171338Z
LAST-MODIFIED:20260211T171338Z
UID:10403-1779436800-1779469200@rmofcana.ca
SUMMARY:Office Closed
DESCRIPTION:
URL:https://rmofcana.ca/event/office-closed-305/
END:VEVENT
BEGIN:VEVENT
DTSTART;TZID=America/Swift_Current:20260529T080000
DTEND;TZID=America/Swift_Current:20260529T170000
DTSTAMP:20260419T175338
CREATED:20260211T171357Z
LAST-MODIFIED:20260211T171357Z
UID:10405-1780041600-1780074000@rmofcana.ca
SUMMARY:Office Closed
DESCRIPTION:
URL:https://rmofcana.ca/event/office-closed-306/
END:VEVENT
BEGIN:VEVENT
DTSTART;TZID=America/Swift_Current:20260605T080000
DTEND;TZID=America/Swift_Current:20260605T170000
DTSTAMP:20260419T175338
CREATED:20260211T171414Z
LAST-MODIFIED:20260211T171414Z
UID:10407-1780646400-1780678800@rmofcana.ca
SUMMARY:Office Closed
DESCRIPTION:
URL:https://rmofcana.ca/event/office-closed-307/
END:VEVENT
BEGIN:VEVENT
DTSTART;TZID=America/Swift_Current:20260609T080000
DTEND;TZID=America/Swift_Current:20260609T170000
DTSTAMP:20260419T175338
CREATED:20260211T165448Z
LAST-MODIFIED:20260211T165448Z
UID:10341-1780992000-1781024400@rmofcana.ca
SUMMARY:Council Meeting
DESCRIPTION:
URL:https://rmofcana.ca/event/council-meeting-48/
END:VEVENT
BEGIN:VEVENT
DTSTART;TZID=America/Swift_Current:20260612T080000
DTEND;TZID=America/Swift_Current:20260612T170000
DTSTAMP:20260419T175338
CREATED:20260211T171430Z
LAST-MODIFIED:20260211T171430Z
UID:10409-1781251200-1781283600@rmofcana.ca
SUMMARY:Office Closed
DESCRIPTION:
URL:https://rmofcana.ca/event/office-closed-308/
END:VEVENT
BEGIN:VEVENT
DTSTART;TZID=America/Swift_Current:20260619T080000
DTEND;TZID=America/Swift_Current:20260619T170000
DTSTAMP:20260419T175338
CREATED:20260211T171552Z
LAST-MODIFIED:20260211T171552Z
UID:10411-1781856000-1781888400@rmofcana.ca
SUMMARY:Office Closed
DESCRIPTION:
URL:https://rmofcana.ca/event/office-closed-309/
END:VEVENT
BEGIN:VEVENT
DTSTART;TZID=America/Swift_Current:20260626T080000
DTEND;TZID=America/Swift_Current:20260626T170000
DTSTAMP:20260419T175338
CREATED:20260211T171611Z
LAST-MODIFIED:20260211T171611Z
UID:10413-1782460800-1782493200@rmofcana.ca
SUMMARY:Office Closed
DESCRIPTION:
URL:https://rmofcana.ca/event/office-closed-310/
END:VEVENT
BEGIN:VEVENT
DTSTART;TZID=America/Swift_Current:20260701T080000
DTEND;TZID=America/Swift_Current:20260701T170000
DTSTAMP:20260419T175338
CREATED:20260211T165917Z
LAST-MODIFIED:20260211T173326Z
UID:10362-1782892800-1782925200@rmofcana.ca
SUMMARY:Office Closed Canada Day
DESCRIPTION:
URL:https://rmofcana.ca/event/office-closed-286/
END:VEVENT
BEGIN:VEVENT
DTSTART;TZID=America/Swift_Current:20260703T080000
DTEND;TZID=America/Swift_Current:20260703T170000
DTSTAMP:20260419T175338
CREATED:20260211T171632Z
LAST-MODIFIED:20260211T171632Z
UID:10415-1783065600-1783098000@rmofcana.ca
SUMMARY:Office Closed
DESCRIPTION:
URL:https://rmofcana.ca/event/office-closed-311/
END:VEVENT
BEGIN:VEVENT
DTSTART;TZID=America/Swift_Current:20260710T080000
DTEND;TZID=America/Swift_Current:20260710T170000
DTSTAMP:20260419T175338
CREATED:20260211T171650Z
LAST-MODIFIED:20260211T171650Z
UID:10417-1783670400-1783702800@rmofcana.ca
SUMMARY:Office Closed
DESCRIPTION:
URL:https://rmofcana.ca/event/office-closed-312/
END:VEVENT
BEGIN:VEVENT
DTSTART;TZID=America/Swift_Current:20260714T080000
DTEND;TZID=America/Swift_Current:20260714T170000
DTSTAMP:20260419T175338
CREATED:20260211T165505Z
LAST-MODIFIED:20260211T165505Z
UID:10343-1784016000-1784048400@rmofcana.ca
SUMMARY:Council Meeting
DESCRIPTION:
URL:https://rmofcana.ca/event/council-meeting-49/
END:VEVENT
BEGIN:VEVENT
DTSTART;TZID=America/Swift_Current:20260717T080000
DTEND;TZID=America/Swift_Current:20260717T170000
DTSTAMP:20260419T175338
CREATED:20260211T171709Z
LAST-MODIFIED:20260211T171709Z
UID:10419-1784275200-1784307600@rmofcana.ca
SUMMARY:Office Closed
DESCRIPTION:
URL:https://rmofcana.ca/event/office-closed-313/
END:VEVENT
END:VCALENDAR