BEGIN:VCALENDAR
VERSION:2.0
PRODID:-//RM of Cana - ECPv6.9.0//NONSGML v1.0//EN
CALSCALE:GREGORIAN
METHOD:PUBLISH
X-WR-CALNAME:RM of Cana
X-ORIGINAL-URL:https://rmofcana.ca
X-WR-CALDESC:Events for RM of Cana
REFRESH-INTERVAL;VALUE=DURATION:PT1H
X-Robots-Tag:noindex
X-PUBLISHED-TTL:PT1H
BEGIN:VTIMEZONE
TZID:America/Swift_Current
BEGIN:STANDARD
TZOFFSETFROM:-0600
TZOFFSETTO:-0600
TZNAME:CST
DTSTART:20210101T000000
END:STANDARD
END:VTIMEZONE
BEGIN:VEVENT
DTSTART;VALUE=DATE:20210827
DTEND;VALUE=DATE:20210828
DTSTAMP:20260419T203819
CREATED:20210603T153119Z
LAST-MODIFIED:20210603T153119Z
UID:8957-1630022400-1630108799@rmofcana.ca
SUMMARY:Office Closed
DESCRIPTION:Office Closed
URL:https://rmofcana.ca/event/office-closed-90/
END:VEVENT
BEGIN:VEVENT
DTSTART;VALUE=DATE:20210820
DTEND;VALUE=DATE:20210821
DTSTAMP:20260419T203819
CREATED:20210603T153057Z
LAST-MODIFIED:20210603T153057Z
UID:8955-1629417600-1629503999@rmofcana.ca
SUMMARY:Office Closed
DESCRIPTION:Office Closed
URL:https://rmofcana.ca/event/office-closed-89/
END:VEVENT
BEGIN:VEVENT
DTSTART;VALUE=DATE:20210813
DTEND;VALUE=DATE:20210814
DTSTAMP:20260419T203819
CREATED:20210603T153516Z
LAST-MODIFIED:20210603T153516Z
UID:8962-1628812800-1628899199@rmofcana.ca
SUMMARY:Office Closed
DESCRIPTION:Office Closed
URL:https://rmofcana.ca/event/office-closed-88/
END:VEVENT
BEGIN:VEVENT
DTSTART;VALUE=DATE:20210810
DTEND;VALUE=DATE:20210811
DTSTAMP:20260419T203819
CREATED:20210603T153540Z
LAST-MODIFIED:20210603T153540Z
UID:8964-1628553600-1628639999@rmofcana.ca
SUMMARY:Council Meeting
DESCRIPTION:Regular Council Meeting – 8am
URL:https://rmofcana.ca/event/council-meeting-11/
END:VEVENT
BEGIN:VEVENT
DTSTART;VALUE=DATE:20210806
DTEND;VALUE=DATE:20210807
DTSTAMP:20260419T203819
CREATED:20210603T153020Z
LAST-MODIFIED:20210603T153020Z
UID:8951-1628208000-1628294399@rmofcana.ca
SUMMARY:Office Closed
DESCRIPTION:Office Closed
URL:https://rmofcana.ca/event/office-closed-87/
END:VEVENT
BEGIN:VEVENT
DTSTART;VALUE=DATE:20210802
DTEND;VALUE=DATE:20210803
DTSTAMP:20260419T203819
CREATED:20210603T153819Z
LAST-MODIFIED:20210603T153819Z
UID:8976-1627862400-1627948799@rmofcana.ca
SUMMARY:Office Closed - Civic Holiday
DESCRIPTION:Office Closed – Civic Holiday
URL:https://rmofcana.ca/event/office-closed-civic-holiday-2/
END:VEVENT
BEGIN:VEVENT
DTSTART;VALUE=DATE:20210730
DTEND;VALUE=DATE:20210731
DTSTAMP:20260419T203819
CREATED:20210603T152832Z
LAST-MODIFIED:20210603T152832Z
UID:8945-1627603200-1627689599@rmofcana.ca
SUMMARY:Office Closed
DESCRIPTION:Office Closed
URL:https://rmofcana.ca/event/office-closed-86/
END:VEVENT
BEGIN:VEVENT
DTSTART;VALUE=DATE:20210723
DTEND;VALUE=DATE:20210724
DTSTAMP:20260419T203819
CREATED:20210603T152815Z
LAST-MODIFIED:20210603T152815Z
UID:8943-1626998400-1627084799@rmofcana.ca
SUMMARY:Office Closed
DESCRIPTION:Office Closed
URL:https://rmofcana.ca/event/office-closed-85/
END:VEVENT
BEGIN:VEVENT
DTSTART;VALUE=DATE:20210716
DTEND;VALUE=DATE:20210717
DTSTAMP:20260419T203819
CREATED:20210603T152756Z
LAST-MODIFIED:20210603T152756Z
UID:8941-1626393600-1626479999@rmofcana.ca
SUMMARY:Office Closed
DESCRIPTION:Office Closed
URL:https://rmofcana.ca/event/office-closed-84/
END:VEVENT
BEGIN:VEVENT
DTSTART;VALUE=DATE:20210713
DTEND;VALUE=DATE:20210714
DTSTAMP:20260419T203819
CREATED:20210603T152930Z
LAST-MODIFIED:20210603T152930Z
UID:8949-1626134400-1626220799@rmofcana.ca
SUMMARY:Council Meeting
DESCRIPTION:Regular Council Meeting – 8am
URL:https://rmofcana.ca/event/council-meeting-9/
END:VEVENT
BEGIN:VEVENT
DTSTART;VALUE=DATE:20210709
DTEND;VALUE=DATE:20210710
DTSTAMP:20260419T203819
CREATED:20210603T152739Z
LAST-MODIFIED:20210603T152739Z
UID:8939-1625788800-1625875199@rmofcana.ca
SUMMARY:Office Closed
DESCRIPTION:Office Closed
URL:https://rmofcana.ca/event/office-closed-83/
END:VEVENT
BEGIN:VEVENT
DTSTART;VALUE=DATE:20210702
DTEND;VALUE=DATE:20210703
DTSTAMP:20260419T203819
CREATED:20210603T152723Z
LAST-MODIFIED:20210603T152723Z
UID:8937-1625184000-1625270399@rmofcana.ca
SUMMARY:Office Closed
DESCRIPTION:Office Closed
URL:https://rmofcana.ca/event/office-closed-82/
END:VEVENT
BEGIN:VEVENT
DTSTART;VALUE=DATE:20210701
DTEND;VALUE=DATE:20210702
DTSTAMP:20260419T203819
CREATED:20210603T152859Z
LAST-MODIFIED:20210603T152859Z
UID:8947-1625097600-1625183999@rmofcana.ca
SUMMARY:Office Closed - Canada Day
DESCRIPTION:Office Closed – Canada Day
URL:https://rmofcana.ca/event/office-closed-canada-day-3/
END:VEVENT
BEGIN:VEVENT
DTSTART;VALUE=DATE:20210625
DTEND;VALUE=DATE:20210626
DTSTAMP:20260419T203819
CREATED:20210310T162511Z
LAST-MODIFIED:20210310T162511Z
UID:8859-1624579200-1624665599@rmofcana.ca
SUMMARY:Office Closed
DESCRIPTION:Office Closed
URL:https://rmofcana.ca/event/office-closed-81/
END:VEVENT
BEGIN:VEVENT
DTSTART;VALUE=DATE:20210618
DTEND;VALUE=DATE:20210619
DTSTAMP:20260419T203819
CREATED:20210310T162454Z
LAST-MODIFIED:20210310T162454Z
UID:8857-1623974400-1624060799@rmofcana.ca
SUMMARY:Office Closed
DESCRIPTION:Office Closed
URL:https://rmofcana.ca/event/office-closed-80/
END:VEVENT
BEGIN:VEVENT
DTSTART;VALUE=DATE:20210611
DTEND;VALUE=DATE:20210612
DTSTAMP:20260419T203819
CREATED:20210310T162433Z
LAST-MODIFIED:20210310T162433Z
UID:8855-1623369600-1623455999@rmofcana.ca
SUMMARY:Office Closed
DESCRIPTION:Office Closed
URL:https://rmofcana.ca/event/office-closed-79/
END:VEVENT
BEGIN:VEVENT
DTSTART;VALUE=DATE:20210608
DTEND;VALUE=DATE:20210609
DTSTAMP:20260419T203819
CREATED:20210603T153147Z
LAST-MODIFIED:20210603T153332Z
UID:8959-1623110400-1623196799@rmofcana.ca
SUMMARY:Council Meeting
DESCRIPTION:Regular Council Meeting – 8am
URL:https://rmofcana.ca/event/council-meeting-10/
END:VEVENT
BEGIN:VEVENT
DTSTART;VALUE=DATE:20210604
DTEND;VALUE=DATE:20210605
DTSTAMP:20260419T203819
CREATED:20210310T162409Z
LAST-MODIFIED:20210310T162409Z
UID:8853-1622764800-1622851199@rmofcana.ca
SUMMARY:Office Closed
DESCRIPTION:Office Closed
URL:https://rmofcana.ca/event/office-closed-78/
END:VEVENT
BEGIN:VEVENT
DTSTART;VALUE=DATE:20210528
DTEND;VALUE=DATE:20210529
DTSTAMP:20260419T203819
CREATED:20210310T161937Z
LAST-MODIFIED:20210310T161946Z
UID:8848-1622160000-1622246399@rmofcana.ca
SUMMARY:Office Closed
DESCRIPTION:Office Closed
URL:https://rmofcana.ca/event/office-closed-77/
END:VEVENT
BEGIN:VEVENT
DTSTART;VALUE=DATE:20210521
DTEND;VALUE=DATE:20210522
DTSTAMP:20260419T203819
CREATED:20210310T161915Z
LAST-MODIFIED:20210310T161915Z
UID:8846-1621555200-1621641599@rmofcana.ca
SUMMARY:Office Closed
DESCRIPTION:Office Closed
URL:https://rmofcana.ca/event/office-closed-76/
END:VEVENT
BEGIN:VEVENT
DTSTART;VALUE=DATE:20210514
DTEND;VALUE=DATE:20210515
DTSTAMP:20260419T203819
CREATED:20210310T161856Z
LAST-MODIFIED:20210310T161856Z
UID:8844-1620950400-1621036799@rmofcana.ca
SUMMARY:Office Closed
DESCRIPTION:Office Closed
URL:https://rmofcana.ca/event/office-closed-75/
END:VEVENT
BEGIN:VEVENT
DTSTART;VALUE=DATE:20210511
DTEND;VALUE=DATE:20210512
DTSTAMP:20260419T203819
CREATED:20210310T162246Z
LAST-MODIFIED:20210310T162335Z
UID:8850-1620691200-1620777599@rmofcana.ca
SUMMARY:Regular Council Meeting
DESCRIPTION:Regular Council Meeting – 8am
URL:https://rmofcana.ca/event/regular-council-meeting-11/
END:VEVENT
BEGIN:VEVENT
DTSTART;VALUE=DATE:20210507
DTEND;VALUE=DATE:20210508
DTSTAMP:20260419T203819
CREATED:20210310T161833Z
LAST-MODIFIED:20210310T161833Z
UID:8842-1620345600-1620431999@rmofcana.ca
SUMMARY:Office Closed
DESCRIPTION:Office Closed
URL:https://rmofcana.ca/event/office-closed-70/
END:VEVENT
BEGIN:VEVENT
DTSTART;VALUE=DATE:20210430
DTEND;VALUE=DATE:20210501
DTSTAMP:20260419T203819
CREATED:20210107T194107Z
LAST-MODIFIED:20210107T194107Z
UID:8718-1619740800-1619827199@rmofcana.ca
SUMMARY:Office Closed
DESCRIPTION:Office Closed
URL:https://rmofcana.ca/event/office-closed-74/
END:VEVENT
BEGIN:VEVENT
DTSTART;VALUE=DATE:20210423
DTEND;VALUE=DATE:20210424
DTSTAMP:20260419T203819
CREATED:20210107T193545Z
LAST-MODIFIED:20210107T193634Z
UID:8712-1619136000-1619222399@rmofcana.ca
SUMMARY:Office Closed
DESCRIPTION:Office Closed
URL:https://rmofcana.ca/event/office-closed-73/
END:VEVENT
BEGIN:VEVENT
DTSTART;VALUE=DATE:20210416
DTEND;VALUE=DATE:20210417
DTSTAMP:20260419T203819
CREATED:20210107T194047Z
LAST-MODIFIED:20210107T194047Z
UID:8716-1618531200-1618617599@rmofcana.ca
SUMMARY:Office Closed
DESCRIPTION:Office Closed
URL:https://rmofcana.ca/event/office-closed-72/
END:VEVENT
BEGIN:VEVENT
DTSTART;VALUE=DATE:20210413
DTEND;VALUE=DATE:20210414
DTSTAMP:20260419T203819
CREATED:20210107T194643Z
LAST-MODIFIED:20210107T194643Z
UID:8722-1618272000-1618358399@rmofcana.ca
SUMMARY:Regular Council Meeting
DESCRIPTION:Regular Council Meeting – 9 a.m.
URL:https://rmofcana.ca/event/regular-council-meeting-10/
END:VEVENT
BEGIN:VEVENT
DTSTART;VALUE=DATE:20210409
DTEND;VALUE=DATE:20210410
DTSTAMP:20260419T203819
CREATED:20210107T194027Z
LAST-MODIFIED:20210107T194027Z
UID:8714-1617926400-1618012799@rmofcana.ca
SUMMARY:Office Closed
DESCRIPTION:Office Closed
URL:https://rmofcana.ca/event/office-closed-71/
END:VEVENT
BEGIN:VEVENT
DTSTART;VALUE=DATE:20210402
DTEND;VALUE=DATE:20210403
DTSTAMP:20260419T203819
CREATED:20210107T194204Z
LAST-MODIFIED:20210107T194204Z
UID:8720-1617321600-1617407999@rmofcana.ca
SUMMARY:Office Closed - Good Friday
DESCRIPTION:Office Closed – Good Friday
URL:https://rmofcana.ca/event/office-closed-good-friday-2/
END:VEVENT
BEGIN:VEVENT
DTSTART;VALUE=DATE:20210326
DTEND;VALUE=DATE:20210327
DTSTAMP:20260419T203819
CREATED:20210107T190805Z
LAST-MODIFIED:20210107T190805Z
UID:8702-1616716800-1616803199@rmofcana.ca
SUMMARY:Office Closed
DESCRIPTION:Office Closed
URL:https://rmofcana.ca/event/office-closed-69/
END:VEVENT
END:VCALENDAR