BEGIN:VCALENDAR
VERSION:2.0
PRODID:-//RM of Cana - ECPv6.9.0//NONSGML v1.0//EN
CALSCALE:GREGORIAN
METHOD:PUBLISH
X-ORIGINAL-URL:https://rmofcana.ca
X-WR-CALDESC:Events for RM of Cana
REFRESH-INTERVAL;VALUE=DURATION:PT1H
X-Robots-Tag:noindex
X-PUBLISHED-TTL:PT1H
BEGIN:VTIMEZONE
TZID:America/Swift_Current
BEGIN:STANDARD
TZOFFSETFROM:-0600
TZOFFSETTO:-0600
TZNAME:CST
DTSTART:20260101T000000
END:STANDARD
END:VTIMEZONE
BEGIN:VEVENT
DTSTART;TZID=America/Swift_Current:20260908T080000
DTEND;TZID=America/Swift_Current:20260908T170000
DTSTAMP:20260419T225934
CREATED:20260211T165544Z
LAST-MODIFIED:20260211T165544Z
UID:10347-1788854400-1788886800@rmofcana.ca
SUMMARY:Council Meeting
DESCRIPTION:
URL:https://rmofcana.ca/event/council-meeting-51/
END:VEVENT
BEGIN:VEVENT
DTSTART;TZID=America/Swift_Current:20260911T080000
DTEND;TZID=America/Swift_Current:20260911T170000
DTSTAMP:20260419T225934
CREATED:20260211T171933Z
LAST-MODIFIED:20260211T171933Z
UID:10435-1789113600-1789146000@rmofcana.ca
SUMMARY:Office Closed
DESCRIPTION:
URL:https://rmofcana.ca/event/office-closed-321/
END:VEVENT
BEGIN:VEVENT
DTSTART;TZID=America/Swift_Current:20260918T080000
DTEND;TZID=America/Swift_Current:20260918T170000
DTSTAMP:20260419T225934
CREATED:20260211T171949Z
LAST-MODIFIED:20260211T171949Z
UID:10437-1789718400-1789750800@rmofcana.ca
SUMMARY:Office Closed
DESCRIPTION:
URL:https://rmofcana.ca/event/office-closed-322/
END:VEVENT
BEGIN:VEVENT
DTSTART;TZID=America/Swift_Current:20260925T080000
DTEND;TZID=America/Swift_Current:20260925T170000
DTSTAMP:20260419T225934
CREATED:20260211T172007Z
LAST-MODIFIED:20260211T172007Z
UID:10439-1790323200-1790355600@rmofcana.ca
SUMMARY:Office Closed
DESCRIPTION:
URL:https://rmofcana.ca/event/office-closed-323/
END:VEVENT
BEGIN:VEVENT
DTSTART;TZID=America/Swift_Current:20261002T080000
DTEND;TZID=America/Swift_Current:20261002T170000
DTSTAMP:20260419T225934
CREATED:20260211T172025Z
LAST-MODIFIED:20260211T172025Z
UID:10441-1790928000-1790960400@rmofcana.ca
SUMMARY:Office Closed
DESCRIPTION:
URL:https://rmofcana.ca/event/office-closed-324/
END:VEVENT
BEGIN:VEVENT
DTSTART;TZID=America/Swift_Current:20261005T080000
DTEND;TZID=America/Swift_Current:20261005T160000
DTSTAMP:20260419T225934
CREATED:20260415T162632Z
LAST-MODIFIED:20260415T182914Z
UID:10609-1791187200-1791216000@rmofcana.ca
SUMMARY:Nomination Day Division 2\, 4 & 6
DESCRIPTION:
URL:https://rmofcana.ca/event/10609/
END:VEVENT
BEGIN:VEVENT
DTSTART;TZID=America/Swift_Current:20261009T080000
DTEND;TZID=America/Swift_Current:20261009T170000
DTSTAMP:20260419T225934
CREATED:20260211T172103Z
LAST-MODIFIED:20260211T172103Z
UID:10445-1791532800-1791565200@rmofcana.ca
SUMMARY:Office Closed
DESCRIPTION:
URL:https://rmofcana.ca/event/office-closed-326/
END:VEVENT
BEGIN:VEVENT
DTSTART;TZID=America/Swift_Current:20261012T080000
DTEND;TZID=America/Swift_Current:20261012T170000
DTSTAMP:20260419T225934
CREATED:20260211T170033Z
LAST-MODIFIED:20260211T173639Z
UID:10368-1791792000-1791824400@rmofcana.ca
SUMMARY:Office Closed Thanksgiving Day
DESCRIPTION:
URL:https://rmofcana.ca/event/office-closed-289/
END:VEVENT
BEGIN:VEVENT
DTSTART;TZID=America/Swift_Current:20261013T080000
DTEND;TZID=America/Swift_Current:20261013T170000
DTSTAMP:20260419T225934
CREATED:20260211T165602Z
LAST-MODIFIED:20260211T165602Z
UID:10349-1791878400-1791910800@rmofcana.ca
SUMMARY:Council Meeting
DESCRIPTION:
URL:https://rmofcana.ca/event/council-meeting-52/
END:VEVENT
BEGIN:VEVENT
DTSTART;TZID=America/Swift_Current:20261016T080000
DTEND;TZID=America/Swift_Current:20261016T170000
DTSTAMP:20260419T225934
CREATED:20260211T172119Z
LAST-MODIFIED:20260211T172119Z
UID:10447-1792137600-1792170000@rmofcana.ca
SUMMARY:Office Closed
DESCRIPTION:
URL:https://rmofcana.ca/event/office-closed-327/
END:VEVENT
BEGIN:VEVENT
DTSTART;TZID=America/Swift_Current:20261023T080000
DTEND;TZID=America/Swift_Current:20261023T170000
DTSTAMP:20260419T225934
CREATED:20260211T172136Z
LAST-MODIFIED:20260211T172136Z
UID:10449-1792742400-1792774800@rmofcana.ca
SUMMARY:Office Closed
DESCRIPTION:
URL:https://rmofcana.ca/event/office-closed-328/
END:VEVENT
BEGIN:VEVENT
DTSTART;TZID=America/Swift_Current:20261030T080000
DTEND;TZID=America/Swift_Current:20261030T170000
DTSTAMP:20260419T225934
CREATED:20260211T172151Z
LAST-MODIFIED:20260211T172151Z
UID:10451-1793347200-1793379600@rmofcana.ca
SUMMARY:Office Closed
DESCRIPTION:
URL:https://rmofcana.ca/event/office-closed-329/
END:VEVENT
BEGIN:VEVENT
DTSTART;TZID=America/Swift_Current:20261106T080000
DTEND;TZID=America/Swift_Current:20261106T170000
DTSTAMP:20260419T225934
CREATED:20260211T172213Z
LAST-MODIFIED:20260211T172213Z
UID:10453-1793952000-1793984400@rmofcana.ca
SUMMARY:Office Closed
DESCRIPTION:
URL:https://rmofcana.ca/event/office-closed-330/
END:VEVENT
BEGIN:VEVENT
DTSTART;TZID=America/Swift_Current:20261109T080000
DTEND;TZID=America/Swift_Current:20261109T200000
DTSTAMP:20260419T225934
CREATED:20260415T163118Z
LAST-MODIFIED:20260415T163713Z
UID:10613-1794211200-1794254400@rmofcana.ca
SUMMARY:Election Day Division 2\,4 & 6
DESCRIPTION:
URL:https://rmofcana.ca/event/election-day-november-9-2026-division-24-6/
END:VEVENT
BEGIN:VEVENT
DTSTART;TZID=America/Swift_Current:20261110T080000
DTEND;TZID=America/Swift_Current:20261110T170000
DTSTAMP:20260419T225934
CREATED:20260211T165622Z
LAST-MODIFIED:20260211T165622Z
UID:10351-1794297600-1794330000@rmofcana.ca
SUMMARY:Council Meeting
DESCRIPTION:
URL:https://rmofcana.ca/event/council-meeting-53/
END:VEVENT
BEGIN:VEVENT
DTSTART;TZID=America/Swift_Current:20261113T080000
DTEND;TZID=America/Swift_Current:20261113T170000
DTSTAMP:20260419T225934
CREATED:20260211T172235Z
LAST-MODIFIED:20260211T172235Z
UID:10455-1794556800-1794589200@rmofcana.ca
SUMMARY:Office Closed
DESCRIPTION:
URL:https://rmofcana.ca/event/office-closed-331/
END:VEVENT
BEGIN:VEVENT
DTSTART;TZID=America/Swift_Current:20261120T080000
DTEND;TZID=America/Swift_Current:20261120T170000
DTSTAMP:20260419T225934
CREATED:20260211T172253Z
LAST-MODIFIED:20260211T172253Z
UID:10457-1795161600-1795194000@rmofcana.ca
SUMMARY:Office Closed
DESCRIPTION:
URL:https://rmofcana.ca/event/office-closed-332/
END:VEVENT
BEGIN:VEVENT
DTSTART;TZID=America/Swift_Current:20261127T080000
DTEND;TZID=America/Swift_Current:20261127T170000
DTSTAMP:20260419T225934
CREATED:20260211T172310Z
LAST-MODIFIED:20260211T172310Z
UID:10459-1795766400-1795798800@rmofcana.ca
SUMMARY:Office Closed
DESCRIPTION:
URL:https://rmofcana.ca/event/office-closed-333/
END:VEVENT
BEGIN:VEVENT
DTSTART;TZID=America/Swift_Current:20261204T080000
DTEND;TZID=America/Swift_Current:20261204T170000
DTSTAMP:20260419T225934
CREATED:20260211T172328Z
LAST-MODIFIED:20260211T172328Z
UID:10461-1796371200-1796403600@rmofcana.ca
SUMMARY:Office Closed
DESCRIPTION:
URL:https://rmofcana.ca/event/office-closed-334/
END:VEVENT
BEGIN:VEVENT
DTSTART;TZID=America/Swift_Current:20261208T080000
DTEND;TZID=America/Swift_Current:20261208T170000
DTSTAMP:20260419T225934
CREATED:20260211T165656Z
LAST-MODIFIED:20260211T165656Z
UID:10354-1796716800-1796749200@rmofcana.ca
SUMMARY:Council Meeting
DESCRIPTION:
URL:https://rmofcana.ca/event/council-meeting-54/
END:VEVENT
BEGIN:VEVENT
DTSTART;TZID=America/Swift_Current:20261211T080000
DTEND;TZID=America/Swift_Current:20261211T170000
DTSTAMP:20260419T225934
CREATED:20260211T172346Z
LAST-MODIFIED:20260211T172346Z
UID:10463-1796976000-1797008400@rmofcana.ca
SUMMARY:Office Closed
DESCRIPTION:
URL:https://rmofcana.ca/event/office-closed-335/
END:VEVENT
BEGIN:VEVENT
DTSTART;TZID=America/Swift_Current:20261218T080000
DTEND;TZID=America/Swift_Current:20261218T170000
DTSTAMP:20260419T225934
CREATED:20260211T172404Z
LAST-MODIFIED:20260211T172404Z
UID:10465-1797580800-1797613200@rmofcana.ca
SUMMARY:Office Closed
DESCRIPTION:
URL:https://rmofcana.ca/event/office-closed-336/
END:VEVENT
BEGIN:VEVENT
DTSTART;TZID=America/Swift_Current:20261225T080000
DTEND;TZID=America/Swift_Current:20261225T170000
DTSTAMP:20260419T225934
CREATED:20260211T170107Z
LAST-MODIFIED:20260211T173115Z
UID:10370-1798185600-1798218000@rmofcana.ca
SUMMARY:Office Closed Christmas Day
DESCRIPTION:
URL:https://rmofcana.ca/event/office-closed-290/
END:VEVENT
END:VCALENDAR