BEGIN:VCALENDAR
VERSION:2.0
PRODID:-//RM of Cana - ECPv6.9.0//NONSGML v1.0//EN
CALSCALE:GREGORIAN
METHOD:PUBLISH
X-WR-CALNAME:RM of Cana
X-ORIGINAL-URL:https://rmofcana.ca
X-WR-CALDESC:Events for RM of Cana
REFRESH-INTERVAL;VALUE=DURATION:PT1H
X-Robots-Tag:noindex
X-PUBLISHED-TTL:PT1H
BEGIN:VTIMEZONE
TZID:America/Swift_Current
BEGIN:STANDARD
TZOFFSETFROM:-0600
TZOFFSETTO:-0600
TZNAME:CST
DTSTART:20200101T000000
END:STANDARD
END:VTIMEZONE
BEGIN:VEVENT
DTSTART;VALUE=DATE:20201211
DTEND;VALUE=DATE:20201212
DTSTAMP:20260421T094924
CREATED:20200915T204447Z
LAST-MODIFIED:20200915T204447Z
UID:8557-1607644800-1607731199@rmofcana.ca
SUMMARY:Office Closed
DESCRIPTION:Office Closed- Admin Day
URL:https://rmofcana.ca/event/office-closed-57/
END:VEVENT
BEGIN:VEVENT
DTSTART;VALUE=DATE:20201208
DTEND;VALUE=DATE:20201209
DTSTAMP:20260421T094924
CREATED:20200915T151830Z
LAST-MODIFIED:20200915T151830Z
UID:8521-1607385600-1607471999@rmofcana.ca
SUMMARY:Regular Council Meeting
DESCRIPTION:Regular Council Meeting 9am
URL:https://rmofcana.ca/event/regular-council-meeting-6/
END:VEVENT
BEGIN:VEVENT
DTSTART;VALUE=DATE:20201204
DTEND;VALUE=DATE:20201205
DTSTAMP:20260421T094924
CREATED:20200915T204426Z
LAST-MODIFIED:20200915T204426Z
UID:8555-1607040000-1607126399@rmofcana.ca
SUMMARY:Office Closed
DESCRIPTION:Office Closed- Admin Day
URL:https://rmofcana.ca/event/office-closed-56/
END:VEVENT
BEGIN:VEVENT
DTSTART;VALUE=DATE:20201130
DTEND;VALUE=DATE:20201201
DTSTAMP:20260421T094924
CREATED:20200915T152034Z
LAST-MODIFIED:20200915T152034Z
UID:8527-1606694400-1606780799@rmofcana.ca
SUMMARY:2% Discount Deadline
DESCRIPTION:Last Day for 2% Discount on Taxes
URL:https://rmofcana.ca/event/2-discount-deadline/
END:VEVENT
BEGIN:VEVENT
DTSTART;VALUE=DATE:20201127
DTEND;VALUE=DATE:20201128
DTSTAMP:20260421T094924
CREATED:20200915T204400Z
LAST-MODIFIED:20200915T204400Z
UID:8553-1606435200-1606521599@rmofcana.ca
SUMMARY:Office Closed
DESCRIPTION:Office Closed- Admin Day
URL:https://rmofcana.ca/event/office-closed-55/
END:VEVENT
BEGIN:VEVENT
DTSTART;VALUE=DATE:20201120
DTEND;VALUE=DATE:20201121
DTSTAMP:20260421T094924
CREATED:20200915T204339Z
LAST-MODIFIED:20200915T204339Z
UID:8551-1605830400-1605916799@rmofcana.ca
SUMMARY:Office Closed
DESCRIPTION:Office Closed- Admin Day
URL:https://rmofcana.ca/event/office-closed-54/
END:VEVENT
BEGIN:VEVENT
DTSTART;VALUE=DATE:20201117
DTEND;VALUE=DATE:20201118
DTSTAMP:20260421T094924
CREATED:20201112T150659Z
LAST-MODIFIED:20201112T150659Z
UID:8603-1605571200-1605657599@rmofcana.ca
SUMMARY:Regular Council Meeting
DESCRIPTION:Regular Council Meeting – 9am
URL:https://rmofcana.ca/event/regular-council-meeting-5/
END:VEVENT
BEGIN:VEVENT
DTSTART;VALUE=DATE:20201113
DTEND;VALUE=DATE:20201114
DTSTAMP:20260421T094924
CREATED:20200915T204316Z
LAST-MODIFIED:20200915T204316Z
UID:8549-1605225600-1605311999@rmofcana.ca
SUMMARY:Office Closed
DESCRIPTION:Office Closed- Admin Day
URL:https://rmofcana.ca/event/office-closed-53/
END:VEVENT
BEGIN:VEVENT
DTSTART;VALUE=DATE:20201111
DTEND;VALUE=DATE:20201112
DTSTAMP:20260421T094924
CREATED:20200310T203333Z
LAST-MODIFIED:20200310T203333Z
UID:8410-1605052800-1605139199@rmofcana.ca
SUMMARY:Office Closed - Remembrance Day
DESCRIPTION:Office Closed – Remembrance Day
URL:https://rmofcana.ca/event/office-closed-remembrance-day/
END:VEVENT
BEGIN:VEVENT
DTSTART;TZID=America/Swift_Current:20201109T090000
DTEND;TZID=America/Swift_Current:20201109T200000
DTSTAMP:20260421T094924
CREATED:20201020T165141Z
LAST-MODIFIED:20201020T165227Z
UID:8589-1604912400-1604952000@rmofcana.ca
SUMMARY:Election Day
DESCRIPTION:Poll: Division 3 & Division 5 \nTime: 9:00 a.m. – 8:00 p.m. \nLocation: Municipal Office – 110-5th Ave. E. Melville\, SK
URL:https://rmofcana.ca/event/election-day/
END:VEVENT
BEGIN:VEVENT
DTSTART;VALUE=DATE:20201106
DTEND;VALUE=DATE:20201107
DTSTAMP:20260421T094924
CREATED:20200915T204250Z
LAST-MODIFIED:20200915T204250Z
UID:8547-1604620800-1604707199@rmofcana.ca
SUMMARY:Office Closed
DESCRIPTION:Office Closed – Admin Day
URL:https://rmofcana.ca/event/office-closed-52/
END:VEVENT
BEGIN:VEVENT
DTSTART;VALUE=DATE:20201031
DTEND;VALUE=DATE:20201101
DTSTAMP:20260421T094924
CREATED:20200915T152002Z
LAST-MODIFIED:20200915T152002Z
UID:8525-1604102400-1604188799@rmofcana.ca
SUMMARY:4% Discount Deadline
DESCRIPTION:Last Day for 4% Discount on Taxes
URL:https://rmofcana.ca/event/4-discount-deadline/
END:VEVENT
BEGIN:VEVENT
DTSTART;VALUE=DATE:20201030
DTEND;VALUE=DATE:20201031
DTSTAMP:20260421T094924
CREATED:20200915T152339Z
LAST-MODIFIED:20200915T152344Z
UID:8545-1604016000-1604102399@rmofcana.ca
SUMMARY:Office Closed
DESCRIPTION:Office Closed – Admin Day
URL:https://rmofcana.ca/event/office-closed-51/
END:VEVENT
BEGIN:VEVENT
DTSTART;TZID=America/Swift_Current:20201028T090000
DTEND;TZID=America/Swift_Current:20201028T140000
DTSTAMP:20260421T094924
CREATED:20201020T164954Z
LAST-MODIFIED:20201020T164954Z
UID:8587-1603875600-1603893600@rmofcana.ca
SUMMARY:Advance Poll
DESCRIPTION:Poll: Division 3 & Division 5 \nTime: 9:00 a.m. – 2:00 p.m. \nLocation: Municipal Office – 110-5th Ave. E. Melville\, SK \n 
URL:https://rmofcana.ca/event/advance-poll/
END:VEVENT
BEGIN:VEVENT
DTSTART;VALUE=DATE:20201023
DTEND;VALUE=DATE:20201024
DTSTAMP:20260421T094924
CREATED:20200915T152323Z
LAST-MODIFIED:20200915T152323Z
UID:8543-1603411200-1603497599@rmofcana.ca
SUMMARY:Office Closed
DESCRIPTION:Office Closed – Admin Day
URL:https://rmofcana.ca/event/office-closed-50/
END:VEVENT
BEGIN:VEVENT
DTSTART;VALUE=DATE:20201023
DTEND;VALUE=DATE:20201024
DTSTAMP:20260421T094924
CREATED:20200915T152304Z
LAST-MODIFIED:20200915T152304Z
UID:8541-1603411200-1603497599@rmofcana.ca
SUMMARY:Office Closed
DESCRIPTION:Office Closed – Admin Day
URL:https://rmofcana.ca/event/office-closed-49/
END:VEVENT
BEGIN:VEVENT
DTSTART;VALUE=DATE:20201016
DTEND;VALUE=DATE:20201017
DTSTAMP:20260421T094924
CREATED:20200915T152242Z
LAST-MODIFIED:20200915T152242Z
UID:8539-1602806400-1602892799@rmofcana.ca
SUMMARY:Office Closed
DESCRIPTION:Office Closed – Admin Day
URL:https://rmofcana.ca/event/office-closed-48/
END:VEVENT
BEGIN:VEVENT
DTSTART;VALUE=DATE:20201013
DTEND;VALUE=DATE:20201014
DTSTAMP:20260421T094924
CREATED:20200915T151731Z
LAST-MODIFIED:20200915T151731Z
UID:8517-1602547200-1602633599@rmofcana.ca
SUMMARY:Regular Council Meeting
DESCRIPTION:Regular Council Meeting 8am
URL:https://rmofcana.ca/event/regular-council-meeting-4/
END:VEVENT
BEGIN:VEVENT
DTSTART;VALUE=DATE:20201012
DTEND;VALUE=DATE:20201013
DTSTAMP:20260421T094924
CREATED:20200310T203249Z
LAST-MODIFIED:20200310T203249Z
UID:8408-1602460800-1602547199@rmofcana.ca
SUMMARY:Office Closed - Thanksgiving Day
DESCRIPTION:Office Closed – Thanksgiving Day
URL:https://rmofcana.ca/event/office-closed-thanksgiving-day/
END:VEVENT
BEGIN:VEVENT
DTSTART;VALUE=DATE:20201009
DTEND;VALUE=DATE:20201010
DTSTAMP:20260421T094924
CREATED:20200915T152225Z
LAST-MODIFIED:20200915T152225Z
UID:8537-1602201600-1602287999@rmofcana.ca
SUMMARY:Office Closed
DESCRIPTION:Office Closed – Admin Day
URL:https://rmofcana.ca/event/office-closed-47/
END:VEVENT
BEGIN:VEVENT
DTSTART;VALUE=DATE:20201002
DTEND;VALUE=DATE:20201003
DTSTAMP:20260421T094924
CREATED:20200915T152208Z
LAST-MODIFIED:20200915T152208Z
UID:8535-1601596800-1601683199@rmofcana.ca
SUMMARY:Office Closed
DESCRIPTION:Office Closed – Admin Day
URL:https://rmofcana.ca/event/office-closed-46/
END:VEVENT
BEGIN:VEVENT
DTSTART;VALUE=DATE:20200930
DTEND;VALUE=DATE:20201001
DTSTAMP:20260421T094924
CREATED:20200915T151937Z
LAST-MODIFIED:20200915T151937Z
UID:8523-1601424000-1601510399@rmofcana.ca
SUMMARY:5% Discount Deadline
DESCRIPTION:Last Day for 5% Discount on Taxes
URL:https://rmofcana.ca/event/5-discount-deadline/
END:VEVENT
BEGIN:VEVENT
DTSTART;VALUE=DATE:20200925
DTEND;VALUE=DATE:20200926
DTSTAMP:20260421T094924
CREATED:20200915T152148Z
LAST-MODIFIED:20200915T152148Z
UID:8533-1600992000-1601078399@rmofcana.ca
SUMMARY:Office Closed
DESCRIPTION:Office Closed – Admin Day
URL:https://rmofcana.ca/event/office-closed-45/
END:VEVENT
BEGIN:VEVENT
DTSTART;VALUE=DATE:20200918
DTEND;VALUE=DATE:20200919
DTSTAMP:20260421T094924
CREATED:20200915T152128Z
LAST-MODIFIED:20200915T152128Z
UID:8531-1600387200-1600473599@rmofcana.ca
SUMMARY:Office Closed
DESCRIPTION:Office Closed – Admin Day
URL:https://rmofcana.ca/event/office-closed-24/
END:VEVENT
BEGIN:VEVENT
DTSTART;VALUE=DATE:20200908
DTEND;VALUE=DATE:20200909
DTSTAMP:20260421T094924
CREATED:20200915T151512Z
LAST-MODIFIED:20200915T151512Z
UID:8515-1599523200-1599609599@rmofcana.ca
SUMMARY:Regular Council Meeting
DESCRIPTION:Regular Council Meeting 8am
URL:https://rmofcana.ca/event/regular-council-meeting-3/
END:VEVENT
BEGIN:VEVENT
DTSTART;VALUE=DATE:20200907
DTEND;VALUE=DATE:20200908
DTSTAMP:20260421T094924
CREATED:20200310T203215Z
LAST-MODIFIED:20200310T203215Z
UID:8406-1599436800-1599523199@rmofcana.ca
SUMMARY:Office Closed - Labour Day
DESCRIPTION:Office Closed – Labour Day
URL:https://rmofcana.ca/event/office-closed-labour-day/
END:VEVENT
BEGIN:VEVENT
DTSTART;VALUE=DATE:20200821
DTEND;VALUE=DATE:20200822
DTSTAMP:20260421T094924
CREATED:20200310T203521Z
LAST-MODIFIED:20200310T203521Z
UID:8416-1597968000-1598054399@rmofcana.ca
SUMMARY:Office Closed
DESCRIPTION:Office Closed
URL:https://rmofcana.ca/event/office-closed-23/
END:VEVENT
BEGIN:VEVENT
DTSTART;VALUE=DATE:20200811
DTEND;VALUE=DATE:20200812
DTSTAMP:20260421T094924
CREATED:20200310T203557Z
LAST-MODIFIED:20200310T203557Z
UID:8418-1597104000-1597190399@rmofcana.ca
SUMMARY:Council Meeting
DESCRIPTION:Regular Council Meeting – 8:00 a.m.
URL:https://rmofcana.ca/event/council-meeting-8/
END:VEVENT
BEGIN:VEVENT
DTSTART;VALUE=DATE:20200807
DTEND;VALUE=DATE:20200808
DTSTAMP:20260421T094924
CREATED:20200310T203455Z
LAST-MODIFIED:20200310T203455Z
UID:8414-1596758400-1596844799@rmofcana.ca
SUMMARY:Office Closed
DESCRIPTION:Office Closed
URL:https://rmofcana.ca/event/office-closed-22/
END:VEVENT
BEGIN:VEVENT
DTSTART;VALUE=DATE:20200803
DTEND;VALUE=DATE:20200804
DTSTAMP:20260421T094924
CREATED:20200310T203143Z
LAST-MODIFIED:20200310T203143Z
UID:8404-1596412800-1596499199@rmofcana.ca
SUMMARY:Office Closed - Civic Holiday
DESCRIPTION:Office Closed – Civic Holiday
URL:https://rmofcana.ca/event/office-closed-civic-holiday/
END:VEVENT
END:VCALENDAR