BEGIN:VCALENDAR
VERSION:2.0
PRODID:-//RM of Cana - ECPv6.9.0//NONSGML v1.0//EN
CALSCALE:GREGORIAN
METHOD:PUBLISH
X-WR-CALNAME:RM of Cana
X-ORIGINAL-URL:https://rmofcana.ca
X-WR-CALDESC:Events for RM of Cana
REFRESH-INTERVAL;VALUE=DURATION:PT1H
X-Robots-Tag:noindex
X-PUBLISHED-TTL:PT1H
BEGIN:VTIMEZONE
TZID:America/Swift_Current
BEGIN:STANDARD
TZOFFSETFROM:-0600
TZOFFSETTO:-0600
TZNAME:CST
DTSTART:20190101T000000
END:STANDARD
END:VTIMEZONE
BEGIN:VEVENT
DTSTART;VALUE=DATE:20200221
DTEND;VALUE=DATE:20200222
DTSTAMP:20260421T170124
CREATED:20191211T163216Z
LAST-MODIFIED:20191211T163226Z
UID:8295-1582243200-1582329599@rmofcana.ca
SUMMARY:Office Closed
DESCRIPTION:Office Closed
URL:https://rmofcana.ca/event/office-closed-8/
END:VEVENT
BEGIN:VEVENT
DTSTART;TZID=America/Swift_Current:20200211T090000
DTEND;TZID=America/Swift_Current:20200211T160000
DTSTAMP:20260421T170124
CREATED:20191211T163345Z
LAST-MODIFIED:20191211T163345Z
UID:8299-1581411600-1581436800@rmofcana.ca
SUMMARY:Regular Council Meeting
DESCRIPTION:Regular Council Meeting
URL:https://rmofcana.ca/event/regular-council-meeting-2/
END:VEVENT
BEGIN:VEVENT
DTSTART;VALUE=DATE:20200207
DTEND;VALUE=DATE:20200208
DTSTAMP:20260421T170124
CREATED:20191211T163312Z
LAST-MODIFIED:20191211T163312Z
UID:8297-1581033600-1581119999@rmofcana.ca
SUMMARY:Office Closed
DESCRIPTION:Office Closed
URL:https://rmofcana.ca/event/office-closed-9/
END:VEVENT
BEGIN:VEVENT
DTSTART;VALUE=DATE:20200117
DTEND;VALUE=DATE:20200118
DTSTAMP:20260421T170124
CREATED:20191211T163101Z
LAST-MODIFIED:20191211T163101Z
UID:8293-1579219200-1579305599@rmofcana.ca
SUMMARY:Office Closed
DESCRIPTION:Office Closed
URL:https://rmofcana.ca/event/office-closed-7/
END:VEVENT
BEGIN:VEVENT
DTSTART;TZID=America/Swift_Current:20200114T090000
DTEND;TZID=America/Swift_Current:20200114T160000
DTSTAMP:20260421T170124
CREATED:20191211T163040Z
LAST-MODIFIED:20191211T163040Z
UID:8291-1578992400-1579017600@rmofcana.ca
SUMMARY:Regular Council Meeting
DESCRIPTION:Regular Council Meeting
URL:https://rmofcana.ca/event/regular-council-meeting/
END:VEVENT
BEGIN:VEVENT
DTSTART;VALUE=DATE:20200103
DTEND;VALUE=DATE:20200104
DTSTAMP:20260421T170124
CREATED:20191211T162957Z
LAST-MODIFIED:20191211T162957Z
UID:8289-1578009600-1578095999@rmofcana.ca
SUMMARY:Office Closed
DESCRIPTION:Office Closed
URL:https://rmofcana.ca/event/office-closed-6/
END:VEVENT
BEGIN:VEVENT
DTSTART;VALUE=DATE:20200101
DTEND;VALUE=DATE:20200102
DTSTAMP:20260421T170124
CREATED:20191211T162929Z
LAST-MODIFIED:20191211T162929Z
UID:8287-1577836800-1577923199@rmofcana.ca
SUMMARY:Office Closed - New Year's Day
DESCRIPTION:Office Closed – New Year’s Day
URL:https://rmofcana.ca/event/office-closed-new-years-day-2/
END:VEVENT
BEGIN:VEVENT
DTSTART;VALUE=DATE:20191231
DTEND;VALUE=DATE:20200101
DTSTAMP:20260421T170124
CREATED:20190724T194457Z
LAST-MODIFIED:20190724T195115Z
UID:8232-1577750400-1577836799@rmofcana.ca
SUMMARY:Taxes Due
DESCRIPTION:Current taxes are due today. 1.25% Monthly Interest will start as of January 1\, 2020 on current taxes.
URL:https://rmofcana.ca/event/taxes-due-2/
END:VEVENT
BEGIN:VEVENT
DTSTART;VALUE=DATE:20191226
DTEND;VALUE=DATE:20191227
DTSTAMP:20260421T170124
CREATED:20191211T162815Z
LAST-MODIFIED:20191211T162815Z
UID:8285-1577318400-1577404799@rmofcana.ca
SUMMARY:Office Closed - Boxing Day
DESCRIPTION:Office Closed – Boxing Day
URL:https://rmofcana.ca/event/office-closed-boxing-day/
END:VEVENT
BEGIN:VEVENT
DTSTART;VALUE=DATE:20191225
DTEND;VALUE=DATE:20191226
DTSTAMP:20260421T170124
CREATED:20190724T200150Z
LAST-MODIFIED:20190724T200150Z
UID:8242-1577232000-1577318399@rmofcana.ca
SUMMARY:Office Closed - Christmas Day
DESCRIPTION:Office Closed – Christmas Day
URL:https://rmofcana.ca/event/office-closed-christmas-day/
END:VEVENT
BEGIN:VEVENT
DTSTART;VALUE=DATE:20191224
DTEND;VALUE=DATE:20191225
DTSTAMP:20260421T170124
CREATED:20191211T162559Z
LAST-MODIFIED:20191211T162725Z
UID:8282-1577145600-1577231999@rmofcana.ca
SUMMARY:Office Closed - Christmas Eve
DESCRIPTION:Office Closed – Christmas Eve
URL:https://rmofcana.ca/event/8282/
END:VEVENT
BEGIN:VEVENT
DTSTART;VALUE=DATE:20191220
DTEND;VALUE=DATE:20191221
DTSTAMP:20260421T170124
CREATED:20190724T195827Z
LAST-MODIFIED:20190724T195827Z
UID:8240-1576800000-1576886399@rmofcana.ca
SUMMARY:Office Closed
DESCRIPTION:Office is closed on the first and third Friday of the month.
URL:https://rmofcana.ca/event/office-closed-4/
END:VEVENT
BEGIN:VEVENT
DTSTART;VALUE=DATE:20191210
DTEND;VALUE=DATE:20191211
DTSTAMP:20260421T170124
CREATED:20190724T202146Z
LAST-MODIFIED:20190724T202146Z
UID:8244-1575936000-1576022399@rmofcana.ca
SUMMARY:Council Meeting
DESCRIPTION:Regular Council Meeting – 9am
URL:https://rmofcana.ca/event/council-meeting/
END:VEVENT
BEGIN:VEVENT
DTSTART;VALUE=DATE:20191206
DTEND;VALUE=DATE:20191207
DTSTAMP:20260421T170124
CREATED:20190724T195714Z
LAST-MODIFIED:20190724T195752Z
UID:8238-1575590400-1575676799@rmofcana.ca
SUMMARY:Office Closed
DESCRIPTION:Office is closed on the first and third Friday of the month.
URL:https://rmofcana.ca/event/office-closed-3/
END:VEVENT
BEGIN:VEVENT
DTSTART;VALUE=DATE:20191130
DTEND;VALUE=DATE:20191201
DTSTAMP:20260421T170124
CREATED:20190724T194406Z
LAST-MODIFIED:20190724T194904Z
UID:8230-1575072000-1575158399@rmofcana.ca
SUMMARY:2% Discount Deadline
DESCRIPTION:Today is the last day to receive a 2% discount on current tax payments.
URL:https://rmofcana.ca/event/2-discount-deadline-2/
END:VEVENT
BEGIN:VEVENT
DTSTART;VALUE=DATE:20191115
DTEND;VALUE=DATE:20191116
DTSTAMP:20260421T170124
CREATED:20190724T195429Z
LAST-MODIFIED:20190724T195429Z
UID:8236-1573776000-1573862399@rmofcana.ca
SUMMARY:Office Closed
DESCRIPTION:Office is closed the first and third Friday of the month.
URL:https://rmofcana.ca/event/office-closed-2/
END:VEVENT
BEGIN:VEVENT
DTSTART;VALUE=DATE:20191111
DTEND;VALUE=DATE:20191112
DTSTAMP:20260421T170124
CREATED:20190724T194235Z
LAST-MODIFIED:20190724T194235Z
UID:8226-1573430400-1573516799@rmofcana.ca
SUMMARY:Office Closed - Remembrance Day
DESCRIPTION:Office Closed – Remembrance Day
URL:https://rmofcana.ca/event/office-closed-remembrance-day-2/
END:VEVENT
BEGIN:VEVENT
DTSTART;VALUE=DATE:20191107
DTEND;VALUE=DATE:20191108
DTSTAMP:20260421T170124
CREATED:20191010T214430Z
LAST-MODIFIED:20191010T214430Z
UID:8265-1573084800-1573171199@rmofcana.ca
SUMMARY:Council Meeting
DESCRIPTION:Regular Council Meeting – 9am
URL:https://rmofcana.ca/event/council-meeting-2/
END:VEVENT
BEGIN:VEVENT
DTSTART;VALUE=DATE:20191101
DTEND;VALUE=DATE:20191102
DTSTAMP:20260421T170124
CREATED:20190724T195346Z
LAST-MODIFIED:20190724T195346Z
UID:8234-1572566400-1572652799@rmofcana.ca
SUMMARY:Office Closed
DESCRIPTION:Office closed the first and third Friday of the month.
URL:https://rmofcana.ca/event/office-closed/
END:VEVENT
BEGIN:VEVENT
DTSTART;VALUE=DATE:20191031
DTEND;VALUE=DATE:20191101
DTSTAMP:20260421T170124
CREATED:20190724T194148Z
LAST-MODIFIED:20190724T194837Z
UID:8224-1572480000-1572566399@rmofcana.ca
SUMMARY:4% Discount Deadline
DESCRIPTION:Today is the last day to receive a 4% discount on current tax payment.
URL:https://rmofcana.ca/event/4-discount-deadline-2/
END:VEVENT
BEGIN:VEVENT
DTSTART;VALUE=DATE:20191018
DTEND;VALUE=DATE:20191019
DTSTAMP:20260421T170124
CREATED:20190724T192054Z
LAST-MODIFIED:20190724T192431Z
UID:8209-1571356800-1571443199@rmofcana.ca
SUMMARY:Office Closed
DESCRIPTION:Office closed first and third Friday of the month.
URL:https://rmofcana.ca/event/office-closed-44/
END:VEVENT
BEGIN:VEVENT
DTSTART;VALUE=DATE:20191017
DTEND;VALUE=DATE:20191018
DTSTAMP:20260421T170124
CREATED:20191010T214255Z
LAST-MODIFIED:20191010T214255Z
UID:8263-1571270400-1571356799@rmofcana.ca
SUMMARY:Office Closed - Training
DESCRIPTION:Office Closed – Training
URL:https://rmofcana.ca/event/office-closed-training/
END:VEVENT
BEGIN:VEVENT
DTSTART;VALUE=DATE:20191014
DTEND;VALUE=DATE:20191015
DTSTAMP:20260421T170124
CREATED:20190724T192548Z
LAST-MODIFIED:20190724T192641Z
UID:8215-1571011200-1571097599@rmofcana.ca
SUMMARY:Office Closed - Thanksgiving Day
DESCRIPTION:Office Closed – Thanksgiving Day
URL:https://rmofcana.ca/event/office-closed-thanksgiving-day-2/
END:VEVENT
BEGIN:VEVENT
DTSTART;VALUE=DATE:20191010
DTEND;VALUE=DATE:20191011
DTSTAMP:20260421T170124
CREATED:20190724T192506Z
LAST-MODIFIED:20190911T160331Z
UID:8213-1570665600-1570751999@rmofcana.ca
SUMMARY:Council Meeting
DESCRIPTION:Regular Council Meeting – 8am
URL:https://rmofcana.ca/event/council-meeting-25/
END:VEVENT
BEGIN:VEVENT
DTSTART;VALUE=DATE:20191004
DTEND;VALUE=DATE:20191005
DTSTAMP:20260421T170124
CREATED:20190724T191951Z
LAST-MODIFIED:20190724T192400Z
UID:8207-1570147200-1570233599@rmofcana.ca
SUMMARY:Office Closed
DESCRIPTION:Office closed first and third Friday of the month.
URL:https://rmofcana.ca/event/office-closed-43/
END:VEVENT
BEGIN:VEVENT
DTSTART;VALUE=DATE:20191001
DTEND;VALUE=DATE:20191002
DTSTAMP:20260421T170124
CREATED:20190911T160416Z
LAST-MODIFIED:20190911T160416Z
UID:8258-1569888000-1569974399@rmofcana.ca
SUMMARY:Office Closed
DESCRIPTION:Office Closed
URL:https://rmofcana.ca/event/office-closed-5/
END:VEVENT
BEGIN:VEVENT
DTSTART;VALUE=DATE:20190930
DTEND;VALUE=DATE:20191001
DTSTAMP:20260421T170124
CREATED:20190724T194037Z
LAST-MODIFIED:20190724T194037Z
UID:8222-1569801600-1569887999@rmofcana.ca
SUMMARY:5% Discount Deadline
DESCRIPTION:Today is the last day to receive 5% discount on current tax payment.
URL:https://rmofcana.ca/event/5-discount-deadline-2/
END:VEVENT
BEGIN:VEVENT
DTSTART;VALUE=DATE:20190920
DTEND;VALUE=DATE:20190921
DTSTAMP:20260421T170124
CREATED:20190624T170505Z
LAST-MODIFIED:20190624T170505Z
UID:8196-1568937600-1569023999@rmofcana.ca
SUMMARY:Office Closed
DESCRIPTION:Office closed first and third Friday of the month
URL:https://rmofcana.ca/event/office-closed-42/
END:VEVENT
BEGIN:VEVENT
DTSTART;TZID=America/Swift_Current:20190911T190000
DTEND;TZID=America/Swift_Current:20190911T210000
DTSTAMP:20260421T170124
CREATED:20190724T193945Z
LAST-MODIFIED:20190724T193945Z
UID:8220-1568228400-1568235600@rmofcana.ca
SUMMARY:Yorkton RCMP Community Hall Meeting 7:00pm-9:00pm
DESCRIPTION:St. Mary’s Cultural Centre \n240 Wellington Avenue\, Yorkton\, Sk.
URL:https://rmofcana.ca/event/yorkton-rcmp-community-hall-meeting-700pm-900pm/
END:VEVENT
BEGIN:VEVENT
DTSTART;VALUE=DATE:20190910
DTEND;VALUE=DATE:20190911
DTSTAMP:20260421T170124
CREATED:20190624T170607Z
LAST-MODIFIED:20190624T170607Z
UID:8198-1568073600-1568159999@rmofcana.ca
SUMMARY:Council Meeting
DESCRIPTION:Regular Council Meeting – 8:00 a.m.
URL:https://rmofcana.ca/event/council-meeting-24/
END:VEVENT
END:VCALENDAR