BEGIN:VCALENDAR
VERSION:2.0
PRODID:-//RM of Cana - ECPv6.9.0//NONSGML v1.0//EN
CALSCALE:GREGORIAN
METHOD:PUBLISH
X-WR-CALNAME:RM of Cana
X-ORIGINAL-URL:https://rmofcana.ca
X-WR-CALDESC:Events for RM of Cana
REFRESH-INTERVAL;VALUE=DURATION:PT1H
X-Robots-Tag:noindex
X-PUBLISHED-TTL:PT1H
BEGIN:VTIMEZONE
TZID:America/Swift_Current
BEGIN:STANDARD
TZOFFSETFROM:-0600
TZOFFSETTO:-0600
TZNAME:CST
DTSTART:20190101T000000
END:STANDARD
END:VTIMEZONE
BEGIN:VEVENT
DTSTART;VALUE=DATE:20190419
DTEND;VALUE=DATE:20190420
DTSTAMP:20260422T010224
CREATED:20181126T145425Z
LAST-MODIFIED:20190118T172138Z
UID:7998-1555632000-1555718399@rmofcana.ca
SUMMARY:Office Closed - Good Friday
DESCRIPTION:The Office is closed every 1st & 3rd Friday of the Month. \nThe Office is closed for the Stat Holiday – Good Friday
URL:https://rmofcana.ca/event/office-closed-33/
END:VEVENT
BEGIN:VEVENT
DTSTART;VALUE=DATE:20190409
DTEND;VALUE=DATE:20190410
DTSTAMP:20260422T010224
CREATED:20181126T145046Z
LAST-MODIFIED:20181126T145046Z
UID:7988-1554768000-1554854399@rmofcana.ca
SUMMARY:Council Meeting
DESCRIPTION:Regular Council Meeting \n9:00AM
URL:https://rmofcana.ca/event/council-meeting-18/
END:VEVENT
BEGIN:VEVENT
DTSTART;VALUE=DATE:20190405
DTEND;VALUE=DATE:20190406
DTSTAMP:20260422T010224
CREATED:20181126T145353Z
LAST-MODIFIED:20181126T145353Z
UID:7996-1554422400-1554508799@rmofcana.ca
SUMMARY:Office Closed
DESCRIPTION:The Office is closed every 1st & 3rd Friday of the Month
URL:https://rmofcana.ca/event/office-closed-32/
END:VEVENT
BEGIN:VEVENT
DTSTART;VALUE=DATE:20190315
DTEND;VALUE=DATE:20190316
DTSTAMP:20260422T010224
CREATED:20181016T172317Z
LAST-MODIFIED:20181016T172317Z
UID:7966-1552608000-1552694399@rmofcana.ca
SUMMARY:Office Closed
DESCRIPTION:The Office is closed every 1st & 3rd Friday of the Month
URL:https://rmofcana.ca/event/office-closed-31/
END:VEVENT
BEGIN:VEVENT
DTSTART;VALUE=DATE:20190307
DTEND;VALUE=DATE:20190308
DTSTAMP:20260422T010224
CREATED:20190213T140410Z
LAST-MODIFIED:20190213T140410Z
UID:8073-1551916800-1552003199@rmofcana.ca
SUMMARY:Council Meeting
DESCRIPTION:Regular Council Meeting \n9:00 AM
URL:https://rmofcana.ca/event/council-meeting-22/
END:VEVENT
BEGIN:VEVENT
DTSTART;VALUE=DATE:20190301
DTEND;VALUE=DATE:20190302
DTSTAMP:20260422T010224
CREATED:20181016T172238Z
LAST-MODIFIED:20181016T172238Z
UID:7964-1551398400-1551484799@rmofcana.ca
SUMMARY:Office Closed
DESCRIPTION:The Office is closed every 1st & 3rd Friday of the Month
URL:https://rmofcana.ca/event/office-closed-30/
END:VEVENT
BEGIN:VEVENT
DTSTART;VALUE=DATE:20190218
DTEND;VALUE=DATE:20190219
DTSTAMP:20260422T010224
CREATED:20190118T172039Z
LAST-MODIFIED:20190118T172039Z
UID:8056-1550448000-1550534399@rmofcana.ca
SUMMARY:Office Closed - Family Day
DESCRIPTION:The office is closed for the Stat Holiday – Family Day
URL:https://rmofcana.ca/event/office-closed-family-day-2/
END:VEVENT
BEGIN:VEVENT
DTSTART;VALUE=DATE:20190215
DTEND;VALUE=DATE:20190216
DTSTAMP:20260422T010224
CREATED:20181016T172206Z
LAST-MODIFIED:20181016T172206Z
UID:7962-1550188800-1550275199@rmofcana.ca
SUMMARY:Office Closed
DESCRIPTION:The Office is closed every 1st & 3rd Friday of the Month
URL:https://rmofcana.ca/event/office-closed-29/
END:VEVENT
BEGIN:VEVENT
DTSTART;VALUE=DATE:20190212
DTEND;VALUE=DATE:20190213
DTSTAMP:20260422T010224
CREATED:20181016T171856Z
LAST-MODIFIED:20181016T171856Z
UID:7952-1549929600-1550015999@rmofcana.ca
SUMMARY:Council Meeting
DESCRIPTION:Regular Council Meeting \n9:00AM
URL:https://rmofcana.ca/event/council-meeting-17/
END:VEVENT
END:VCALENDAR