BEGIN:VCALENDAR
VERSION:2.0
PRODID:-//RM of Cana - ECPv6.9.0//NONSGML v1.0//EN
CALSCALE:GREGORIAN
METHOD:PUBLISH
X-ORIGINAL-URL:https://rmofcana.ca
X-WR-CALDESC:Events for RM of Cana
REFRESH-INTERVAL;VALUE=DURATION:PT1H
X-Robots-Tag:noindex
X-PUBLISHED-TTL:PT1H
BEGIN:VTIMEZONE
TZID:America/Swift_Current
BEGIN:STANDARD
TZOFFSETFROM:-0600
TZOFFSETTO:-0600
TZNAME:CST
DTSTART:20240101T000000
END:STANDARD
END:VTIMEZONE
BEGIN:VEVENT
DTSTART;TZID=America/Swift_Current:20240531T080000
DTEND;TZID=America/Swift_Current:20240531T170000
DTSTAMP:20260419T062448
CREATED:20240430T164202Z
LAST-MODIFIED:20240430T164202Z
UID:9879-1717142400-1717174800@rmofcana.ca
SUMMARY:Office Closed
DESCRIPTION:
URL:https://rmofcana.ca/event/office-closed-212/
END:VEVENT
BEGIN:VEVENT
DTSTART;TZID=America/Swift_Current:20240607T080000
DTEND;TZID=America/Swift_Current:20240607T170000
DTSTAMP:20260419T062448
CREATED:20240430T164333Z
LAST-MODIFIED:20240430T164408Z
UID:9889-1717747200-1717779600@rmofcana.ca
SUMMARY:Office Closed
DESCRIPTION:
URL:https://rmofcana.ca/event/office-closed-217/
END:VEVENT
BEGIN:VEVENT
DTSTART;TZID=America/Swift_Current:20240611T090000
DTEND;TZID=America/Swift_Current:20240611T170000
DTSTAMP:20260419T062448
CREATED:20240430T154315Z
LAST-MODIFIED:20240430T155850Z
UID:9833-1718096400-1718125200@rmofcana.ca
SUMMARY:Council Meeting
DESCRIPTION:
URL:https://rmofcana.ca/event/council-meeting-27/
END:VEVENT
BEGIN:VEVENT
DTSTART;TZID=America/Swift_Current:20240614T080000
DTEND;TZID=America/Swift_Current:20240614T170000
DTSTAMP:20260419T062448
CREATED:20240430T164217Z
LAST-MODIFIED:20240430T164236Z
UID:9881-1718352000-1718384400@rmofcana.ca
SUMMARY:Office Closed
DESCRIPTION:
URL:https://rmofcana.ca/event/office-closed-213/
END:VEVENT
BEGIN:VEVENT
DTSTART;TZID=America/Swift_Current:20240621T080000
DTEND;TZID=America/Swift_Current:20240621T170000
DTSTAMP:20260419T062448
CREATED:20240430T164250Z
LAST-MODIFIED:20240430T164250Z
UID:9883-1718956800-1718989200@rmofcana.ca
SUMMARY:Office Closed
DESCRIPTION:
URL:https://rmofcana.ca/event/office-closed-214/
END:VEVENT
BEGIN:VEVENT
DTSTART;TZID=America/Swift_Current:20240621T080000
DTEND;TZID=America/Swift_Current:20240621T170000
DTSTAMP:20260419T062448
CREATED:20240430T164306Z
LAST-MODIFIED:20240430T164306Z
UID:9885-1718956800-1718989200@rmofcana.ca
SUMMARY:Office Closed
DESCRIPTION:
URL:https://rmofcana.ca/event/office-closed-215/
END:VEVENT
BEGIN:VEVENT
DTSTART;TZID=America/Swift_Current:20240628T080000
DTEND;TZID=America/Swift_Current:20240628T170000
DTSTAMP:20260419T062448
CREATED:20240430T164319Z
LAST-MODIFIED:20240430T164319Z
UID:9887-1719561600-1719594000@rmofcana.ca
SUMMARY:Office Closed
DESCRIPTION:
URL:https://rmofcana.ca/event/office-closed-216/
END:VEVENT
BEGIN:VEVENT
DTSTART;TZID=America/Swift_Current:20240705T080000
DTEND;TZID=America/Swift_Current:20240705T170000
DTSTAMP:20260419T062448
CREATED:20240430T172020Z
LAST-MODIFIED:20240430T172020Z
UID:9923-1720166400-1720198800@rmofcana.ca
SUMMARY:Office Closed
DESCRIPTION:
URL:https://rmofcana.ca/event/office-closed-233/
END:VEVENT
BEGIN:VEVENT
DTSTART;TZID=America/Swift_Current:20240709T080000
DTEND;TZID=America/Swift_Current:20240709T170000
DTSTAMP:20260419T062448
CREATED:20240430T154340Z
LAST-MODIFIED:20240430T154340Z
UID:9835-1720512000-1720544400@rmofcana.ca
SUMMARY:Council Meeting
DESCRIPTION:
URL:https://rmofcana.ca/event/council-meeting-28/
END:VEVENT
BEGIN:VEVENT
DTSTART;TZID=America/Swift_Current:20240712T080000
DTEND;TZID=America/Swift_Current:20240712T170000
DTSTAMP:20260419T062448
CREATED:20240430T172034Z
LAST-MODIFIED:20240430T172034Z
UID:9925-1720771200-1720803600@rmofcana.ca
SUMMARY:Office Closed
DESCRIPTION:
URL:https://rmofcana.ca/event/office-closed-234/
END:VEVENT
BEGIN:VEVENT
DTSTART;TZID=America/Swift_Current:20240719T080000
DTEND;TZID=America/Swift_Current:20240719T170000
DTSTAMP:20260419T062448
CREATED:20240430T172047Z
LAST-MODIFIED:20240430T172047Z
UID:9927-1721376000-1721408400@rmofcana.ca
SUMMARY:Office Closed
DESCRIPTION:
URL:https://rmofcana.ca/event/office-closed-235/
END:VEVENT
BEGIN:VEVENT
DTSTART;TZID=America/Swift_Current:20240726T080000
DTEND;TZID=America/Swift_Current:20240726T170000
DTSTAMP:20260419T062448
CREATED:20240430T165254Z
LAST-MODIFIED:20240430T165254Z
UID:9911-1721980800-1722013200@rmofcana.ca
SUMMARY:Office Closed
DESCRIPTION:
URL:https://rmofcana.ca/event/office-closed-227/
END:VEVENT
BEGIN:VEVENT
DTSTART;TZID=America/Swift_Current:20240802T080000
DTEND;TZID=America/Swift_Current:20240802T170000
DTSTAMP:20260419T062448
CREATED:20240430T164827Z
LAST-MODIFIED:20240430T164909Z
UID:9899-1722585600-1722618000@rmofcana.ca
SUMMARY:Office Closed
DESCRIPTION:
URL:https://rmofcana.ca/event/office-closed-221/
END:VEVENT
BEGIN:VEVENT
DTSTART;TZID=America/Swift_Current:20240809T080000
DTEND;TZID=America/Swift_Current:20240809T170000
DTSTAMP:20260419T062448
CREATED:20240430T164731Z
LAST-MODIFIED:20240430T164740Z
UID:9893-1723190400-1723222800@rmofcana.ca
SUMMARY:Office Closed
DESCRIPTION:
URL:https://rmofcana.ca/event/office-closed-218/
END:VEVENT
BEGIN:VEVENT
DTSTART;TZID=America/Swift_Current:20240813T080000
DTEND;TZID=America/Swift_Current:20240813T170000
DTSTAMP:20260419T062448
CREATED:20240430T160120Z
LAST-MODIFIED:20240430T163333Z
UID:9839-1723536000-1723568400@rmofcana.ca
SUMMARY:Council Meeting
DESCRIPTION:
URL:https://rmofcana.ca/event/council-meeting-29/
END:VEVENT
BEGIN:VEVENT
DTSTART;TZID=America/Swift_Current:20240816T080000
DTEND;TZID=America/Swift_Current:20240816T170000
DTSTAMP:20260419T062448
CREATED:20240430T164759Z
LAST-MODIFIED:20240430T164759Z
UID:9895-1723795200-1723827600@rmofcana.ca
SUMMARY:Office Closed
DESCRIPTION:
URL:https://rmofcana.ca/event/office-closed-219/
END:VEVENT
BEGIN:VEVENT
DTSTART;TZID=America/Swift_Current:20240823T080000
DTEND;TZID=America/Swift_Current:20240823T170000
DTSTAMP:20260419T062448
CREATED:20240430T164813Z
LAST-MODIFIED:20240430T164813Z
UID:9897-1724400000-1724432400@rmofcana.ca
SUMMARY:Office Closed
DESCRIPTION:
URL:https://rmofcana.ca/event/office-closed-220/
END:VEVENT
BEGIN:VEVENT
DTSTART;TZID=America/Swift_Current:20240830T080000
DTEND;TZID=America/Swift_Current:20240830T170000
DTSTAMP:20260419T062448
CREATED:20240430T165308Z
LAST-MODIFIED:20240430T165308Z
UID:9913-1725004800-1725037200@rmofcana.ca
SUMMARY:Office Closed
DESCRIPTION:
URL:https://rmofcana.ca/event/office-closed-228/
END:VEVENT
BEGIN:VEVENT
DTSTART;TZID=America/Swift_Current:20240906T080000
DTEND;TZID=America/Swift_Current:20240906T170000
DTSTAMP:20260419T062448
CREATED:20240430T164927Z
LAST-MODIFIED:20240430T164927Z
UID:9901-1725609600-1725642000@rmofcana.ca
SUMMARY:Office Closed
DESCRIPTION:
URL:https://rmofcana.ca/event/office-closed-222/
END:VEVENT
BEGIN:VEVENT
DTSTART;TZID=America/Swift_Current:20240906T080000
DTEND;TZID=America/Swift_Current:20240906T170000
DTSTAMP:20260419T062448
CREATED:20240430T165326Z
LAST-MODIFIED:20240430T165326Z
UID:9915-1725609600-1725642000@rmofcana.ca
SUMMARY:Office Closed
DESCRIPTION:
URL:https://rmofcana.ca/event/office-closed-229/
END:VEVENT
BEGIN:VEVENT
DTSTART;TZID=America/Swift_Current:20240910T090000
DTEND;TZID=America/Swift_Current:20240910T170000
DTSTAMP:20260419T062448
CREATED:20240430T160222Z
LAST-MODIFIED:20240430T160222Z
UID:9841-1725958800-1725987600@rmofcana.ca
SUMMARY:Council Meeting
DESCRIPTION:
URL:https://rmofcana.ca/event/council-meeting-30/
END:VEVENT
BEGIN:VEVENT
DTSTART;TZID=America/Swift_Current:20240913T080000
DTEND;TZID=America/Swift_Current:20240913T170000
DTSTAMP:20260419T062448
CREATED:20240430T164942Z
LAST-MODIFIED:20240430T164942Z
UID:9903-1726214400-1726246800@rmofcana.ca
SUMMARY:Office Closed
DESCRIPTION:
URL:https://rmofcana.ca/event/office-closed-223/
END:VEVENT
BEGIN:VEVENT
DTSTART;TZID=America/Swift_Current:20240913T080000
DTEND;TZID=America/Swift_Current:20240913T170000
DTSTAMP:20260419T062448
CREATED:20240430T165352Z
LAST-MODIFIED:20240430T165352Z
UID:9917-1726214400-1726246800@rmofcana.ca
SUMMARY:Office Closed
DESCRIPTION:
URL:https://rmofcana.ca/event/office-closed-230/
END:VEVENT
BEGIN:VEVENT
DTSTART;TZID=America/Swift_Current:20240920T080000
DTEND;TZID=America/Swift_Current:20240920T170000
DTSTAMP:20260419T062448
CREATED:20240430T164957Z
LAST-MODIFIED:20240430T164957Z
UID:9905-1726819200-1726851600@rmofcana.ca
SUMMARY:Office Closed
DESCRIPTION:
URL:https://rmofcana.ca/event/office-closed-224/
END:VEVENT
BEGIN:VEVENT
DTSTART;TZID=America/Swift_Current:20240920T080000
DTEND;TZID=America/Swift_Current:20240920T170000
DTSTAMP:20260419T062448
CREATED:20240430T165406Z
LAST-MODIFIED:20240430T165406Z
UID:9919-1726819200-1726851600@rmofcana.ca
SUMMARY:Office Closed
DESCRIPTION:
URL:https://rmofcana.ca/event/office-closed-231/
END:VEVENT
BEGIN:VEVENT
DTSTART;TZID=America/Swift_Current:20240927T080000
DTEND;TZID=America/Swift_Current:20240927T170000
DTSTAMP:20260419T062448
CREATED:20240430T165013Z
LAST-MODIFIED:20240430T165013Z
UID:9907-1727424000-1727456400@rmofcana.ca
SUMMARY:Office Closed
DESCRIPTION:
URL:https://rmofcana.ca/event/office-closed-225/
END:VEVENT
BEGIN:VEVENT
DTSTART;TZID=America/Swift_Current:20240927T080000
DTEND;TZID=America/Swift_Current:20240927T170000
DTSTAMP:20260419T062448
CREATED:20240430T165104Z
LAST-MODIFIED:20240430T165104Z
UID:9909-1727424000-1727456400@rmofcana.ca
SUMMARY:Office Closed
DESCRIPTION:
URL:https://rmofcana.ca/event/office-closed-226/
END:VEVENT
BEGIN:VEVENT
DTSTART;TZID=America/Swift_Current:20241008T090000
DTEND;TZID=America/Swift_Current:20241008T170000
DTSTAMP:20260419T062448
CREATED:20240430T160254Z
LAST-MODIFIED:20240430T160538Z
UID:9843-1728378000-1728406800@rmofcana.ca
SUMMARY:Council Meeting
DESCRIPTION:
URL:https://rmofcana.ca/event/council-meeting-31/
END:VEVENT
BEGIN:VEVENT
DTSTART;TZID=America/Swift_Current:20241112T080000
DTEND;TZID=America/Swift_Current:20241112T170000
DTSTAMP:20260419T062448
CREATED:20241022T173724Z
LAST-MODIFIED:20241022T173724Z
UID:10001-1731398400-1731430800@rmofcana.ca
SUMMARY:Council Meeting
DESCRIPTION:
URL:https://rmofcana.ca/event/council-meeting-44/
END:VEVENT
BEGIN:VEVENT
DTSTART;TZID=America/Swift_Current:20241113T090000
DTEND;TZID=America/Swift_Current:20241113T200000
DTSTAMP:20260419T062448
CREATED:20240430T160738Z
LAST-MODIFIED:20240430T160738Z
UID:9845-1731488400-1731528000@rmofcana.ca
SUMMARY:Election Day
DESCRIPTION:
URL:https://rmofcana.ca/event/election-day-2/
END:VEVENT
END:VCALENDAR