BEGIN:VCALENDAR
VERSION:2.0
PRODID:-//RM of Cana - ECPv6.9.0//NONSGML v1.0//EN
CALSCALE:GREGORIAN
METHOD:PUBLISH
X-WR-CALNAME:RM of Cana
X-ORIGINAL-URL:https://rmofcana.ca
X-WR-CALDESC:Events for RM of Cana
REFRESH-INTERVAL;VALUE=DURATION:PT1H
X-Robots-Tag:noindex
X-PUBLISHED-TTL:PT1H
BEGIN:VTIMEZONE
TZID:America/Swift_Current
BEGIN:STANDARD
TZOFFSETFROM:-0600
TZOFFSETTO:-0600
TZNAME:CST
DTSTART:20220101T000000
END:STANDARD
END:VTIMEZONE
BEGIN:VEVENT
DTSTART;VALUE=DATE:20230210
DTEND;VALUE=DATE:20230211
DTSTAMP:20260419T081340
CREATED:20230109T195933Z
LAST-MODIFIED:20230109T195933Z
UID:9478-1675987200-1676073599@rmofcana.ca
SUMMARY:Office Closed
DESCRIPTION:
URL:https://rmofcana.ca/event/office-closed-163/
END:VEVENT
BEGIN:VEVENT
DTSTART;VALUE=DATE:20230203
DTEND;VALUE=DATE:20230204
DTSTAMP:20260419T081340
CREATED:20230109T195919Z
LAST-MODIFIED:20230109T195919Z
UID:9476-1675382400-1675468799@rmofcana.ca
SUMMARY:Office Closed
DESCRIPTION:
URL:https://rmofcana.ca/event/office-closed-162/
END:VEVENT
BEGIN:VEVENT
DTSTART;VALUE=DATE:20230127
DTEND;VALUE=DATE:20230128
DTSTAMP:20260419T081340
CREATED:20230109T195849Z
LAST-MODIFIED:20230109T195856Z
UID:9474-1674777600-1674863999@rmofcana.ca
SUMMARY:Office Closed
DESCRIPTION:
URL:https://rmofcana.ca/event/office-closed-161/
END:VEVENT
BEGIN:VEVENT
DTSTART;VALUE=DATE:20230120
DTEND;VALUE=DATE:20230121
DTSTAMP:20260419T081340
CREATED:20230109T195832Z
LAST-MODIFIED:20230109T195832Z
UID:9472-1674172800-1674259199@rmofcana.ca
SUMMARY:Office Closed
DESCRIPTION:
URL:https://rmofcana.ca/event/office-closed-153/
END:VEVENT
BEGIN:VEVENT
DTSTART;VALUE=DATE:20230113
DTEND;VALUE=DATE:20230114
DTSTAMP:20260419T081340
CREATED:20230109T195813Z
LAST-MODIFIED:20230109T195813Z
UID:9470-1673568000-1673654399@rmofcana.ca
SUMMARY:Office Closed
DESCRIPTION:
URL:https://rmofcana.ca/event/office-closed-134/
END:VEVENT
BEGIN:VEVENT
DTSTART;VALUE=DATE:20230110
DTEND;VALUE=DATE:20230111
DTSTAMP:20260419T081340
CREATED:20230109T194330Z
LAST-MODIFIED:20230109T194534Z
UID:9442-1673308800-1673395199@rmofcana.ca
SUMMARY:Regular Council Meeting
DESCRIPTION:
URL:https://rmofcana.ca/event/9442/
END:VEVENT
BEGIN:VEVENT
DTSTART;VALUE=DATE:20230106
DTEND;VALUE=DATE:20230107
DTSTAMP:20260419T081340
CREATED:20230109T195752Z
LAST-MODIFIED:20230109T195752Z
UID:9468-1672963200-1673049599@rmofcana.ca
SUMMARY:Office Closed
DESCRIPTION:
URL:https://rmofcana.ca/event/office-closed-123/
END:VEVENT
BEGIN:VEVENT
DTSTART;VALUE=DATE:20221231
DTEND;VALUE=DATE:20230101
DTSTAMP:20260419T081340
CREATED:20220420T154839Z
LAST-MODIFIED:20220420T154839Z
UID:9336-1672444800-1672531199@rmofcana.ca
SUMMARY:2022 Taxes Due
DESCRIPTION:2022 Taxes Due
URL:https://rmofcana.ca/event/2022-taxes-due/
END:VEVENT
BEGIN:VEVENT
DTSTART;VALUE=DATE:20221230
DTEND;VALUE=DATE:20221231
DTSTAMP:20260419T081340
CREATED:20220420T153532Z
LAST-MODIFIED:20220420T153532Z
UID:9286-1672358400-1672444799@rmofcana.ca
SUMMARY:Office Closed
DESCRIPTION:Office Closed
URL:https://rmofcana.ca/event/office-closed-160/
END:VEVENT
BEGIN:VEVENT
DTSTART;VALUE=DATE:20221226
DTEND;VALUE=DATE:20221227
DTSTAMP:20260419T081340
CREATED:20220420T154439Z
LAST-MODIFIED:20220420T154439Z
UID:9328-1672012800-1672099199@rmofcana.ca
SUMMARY:Office Closed - Boxing Day
DESCRIPTION:Office Closed – Boxing Day
URL:https://rmofcana.ca/event/office-closed-boxing-day-2/
END:VEVENT
BEGIN:VEVENT
DTSTART;VALUE=DATE:20221223
DTEND;VALUE=DATE:20221224
DTSTAMP:20260419T081340
CREATED:20220420T153519Z
LAST-MODIFIED:20220420T153519Z
UID:9284-1671753600-1671839999@rmofcana.ca
SUMMARY:Office Closed
DESCRIPTION:Office Closed
URL:https://rmofcana.ca/event/office-closed-159/
END:VEVENT
BEGIN:VEVENT
DTSTART;VALUE=DATE:20221216
DTEND;VALUE=DATE:20221217
DTSTAMP:20260419T081340
CREATED:20220420T153504Z
LAST-MODIFIED:20220420T153504Z
UID:9282-1671148800-1671235199@rmofcana.ca
SUMMARY:Office Closed
DESCRIPTION:Office Closed
URL:https://rmofcana.ca/event/office-closed-158/
END:VEVENT
BEGIN:VEVENT
DTSTART;VALUE=DATE:20221213
DTEND;VALUE=DATE:20221214
DTSTAMP:20260419T081340
CREATED:20220420T153955Z
LAST-MODIFIED:20220420T153955Z
UID:9310-1670889600-1670975999@rmofcana.ca
SUMMARY:Regular Council Meeting
DESCRIPTION:Regular Council Meeting
URL:https://rmofcana.ca/event/regular-council-meeting-23/
END:VEVENT
BEGIN:VEVENT
DTSTART;VALUE=DATE:20221209
DTEND;VALUE=DATE:20221210
DTSTAMP:20260419T081340
CREATED:20220420T153449Z
LAST-MODIFIED:20220420T153449Z
UID:9280-1670544000-1670630399@rmofcana.ca
SUMMARY:Office Closed
DESCRIPTION:Office Closed
URL:https://rmofcana.ca/event/office-closed-157/
END:VEVENT
BEGIN:VEVENT
DTSTART;VALUE=DATE:20221202
DTEND;VALUE=DATE:20221203
DTSTAMP:20260419T081340
CREATED:20220420T153432Z
LAST-MODIFIED:20220420T153432Z
UID:9278-1669939200-1670025599@rmofcana.ca
SUMMARY:Office Closed
DESCRIPTION:Office Closed
URL:https://rmofcana.ca/event/office-closed-156/
END:VEVENT
BEGIN:VEVENT
DTSTART;VALUE=DATE:20221130
DTEND;VALUE=DATE:20221201
DTSTAMP:20260419T081340
CREATED:20220420T154729Z
LAST-MODIFIED:20220420T154729Z
UID:9330-1669766400-1669852799@rmofcana.ca
SUMMARY:2% Discount Deadline
DESCRIPTION:2% Discount Deadline
URL:https://rmofcana.ca/event/2-discount-deadline-3/
END:VEVENT
BEGIN:VEVENT
DTSTART;VALUE=DATE:20221125
DTEND;VALUE=DATE:20221126
DTSTAMP:20260419T081340
CREATED:20220420T153416Z
LAST-MODIFIED:20220420T153416Z
UID:9276-1669334400-1669420799@rmofcana.ca
SUMMARY:Office Closed
DESCRIPTION:Office Closed
URL:https://rmofcana.ca/event/office-closed-155/
END:VEVENT
BEGIN:VEVENT
DTSTART;VALUE=DATE:20221118
DTEND;VALUE=DATE:20221119
DTSTAMP:20260419T081340
CREATED:20220420T153357Z
LAST-MODIFIED:20220420T153357Z
UID:9274-1668729600-1668815999@rmofcana.ca
SUMMARY:Office Closed
DESCRIPTION:Office Closed
URL:https://rmofcana.ca/event/office-closed-154/
END:VEVENT
BEGIN:VEVENT
DTSTART;VALUE=DATE:20221111
DTEND;VALUE=DATE:20221112
DTSTAMP:20260419T081340
CREATED:20220420T154409Z
LAST-MODIFIED:20220420T154409Z
UID:9326-1668124800-1668211199@rmofcana.ca
SUMMARY:Office Closed - Remembrance Day
DESCRIPTION:Office Closed – Remembrance Day
URL:https://rmofcana.ca/event/office-closed-remembrance-day-4/
END:VEVENT
BEGIN:VEVENT
DTSTART;VALUE=DATE:20221108
DTEND;VALUE=DATE:20221109
DTSTAMP:20260419T081340
CREATED:20220420T153940Z
LAST-MODIFIED:20220420T153940Z
UID:9308-1667865600-1667951999@rmofcana.ca
SUMMARY:Regular Council Meeting
DESCRIPTION:Regular Council Meeting – 9am
URL:https://rmofcana.ca/event/regular-council-meeting-22/
END:VEVENT
BEGIN:VEVENT
DTSTART;VALUE=DATE:20221104
DTEND;VALUE=DATE:20221105
DTSTAMP:20260419T081340
CREATED:20220420T153326Z
LAST-MODIFIED:20220420T153326Z
UID:9270-1667520000-1667606399@rmofcana.ca
SUMMARY:Office Closed
DESCRIPTION:Office Closed
URL:https://rmofcana.ca/event/office-closed-152/
END:VEVENT
BEGIN:VEVENT
DTSTART;VALUE=DATE:20221031
DTEND;VALUE=DATE:20221101
DTSTAMP:20260419T081340
CREATED:20220420T154752Z
LAST-MODIFIED:20220420T154752Z
UID:9332-1667174400-1667260799@rmofcana.ca
SUMMARY:4% Discount Deadline
DESCRIPTION:4% Discount Deadline
URL:https://rmofcana.ca/event/4-discount-deadline-3/
END:VEVENT
BEGIN:VEVENT
DTSTART;VALUE=DATE:20221028
DTEND;VALUE=DATE:20221029
DTSTAMP:20260419T081340
CREATED:20220420T153311Z
LAST-MODIFIED:20220420T153311Z
UID:9268-1666915200-1667001599@rmofcana.ca
SUMMARY:Office Closed
DESCRIPTION:Office Closed
URL:https://rmofcana.ca/event/office-closed-151/
END:VEVENT
BEGIN:VEVENT
DTSTART;VALUE=DATE:20221021
DTEND;VALUE=DATE:20221022
DTSTAMP:20260419T081340
CREATED:20220420T153255Z
LAST-MODIFIED:20220420T153255Z
UID:9266-1666310400-1666396799@rmofcana.ca
SUMMARY:Office Closed
DESCRIPTION:Office Closed
URL:https://rmofcana.ca/event/office-closed-150/
END:VEVENT
BEGIN:VEVENT
DTSTART;VALUE=DATE:20221014
DTEND;VALUE=DATE:20221015
DTSTAMP:20260419T081340
CREATED:20220420T153243Z
LAST-MODIFIED:20220420T153243Z
UID:9264-1665705600-1665791999@rmofcana.ca
SUMMARY:Office Closed
DESCRIPTION:Office Closed
URL:https://rmofcana.ca/event/office-closed-149/
END:VEVENT
BEGIN:VEVENT
DTSTART;VALUE=DATE:20221011
DTEND;VALUE=DATE:20221012
DTSTAMP:20260419T081340
CREATED:20220420T153922Z
LAST-MODIFIED:20220420T153922Z
UID:9306-1665446400-1665532799@rmofcana.ca
SUMMARY:Regular Council Meeting
DESCRIPTION:Regular Council Meeting – 8am
URL:https://rmofcana.ca/event/regular-council-meeting-21/
END:VEVENT
BEGIN:VEVENT
DTSTART;VALUE=DATE:20221010
DTEND;VALUE=DATE:20221011
DTSTAMP:20260419T081340
CREATED:20220420T154335Z
LAST-MODIFIED:20220420T154335Z
UID:9324-1665360000-1665446399@rmofcana.ca
SUMMARY:Office Closed - Thanksgiving
DESCRIPTION:Office Closed – Thanksgiving
URL:https://rmofcana.ca/event/office-closed-thanksgiving-2/
END:VEVENT
BEGIN:VEVENT
DTSTART;VALUE=DATE:20221007
DTEND;VALUE=DATE:20221008
DTSTAMP:20260419T081340
CREATED:20220420T153230Z
LAST-MODIFIED:20220420T153230Z
UID:9262-1665100800-1665187199@rmofcana.ca
SUMMARY:Office Closed
DESCRIPTION:Office Closed
URL:https://rmofcana.ca/event/office-closed-148/
END:VEVENT
BEGIN:VEVENT
DTSTART;VALUE=DATE:20220930
DTEND;VALUE=DATE:20221001
DTSTAMP:20260419T081340
CREATED:20220420T154810Z
LAST-MODIFIED:20220420T154810Z
UID:9334-1664496000-1664582399@rmofcana.ca
SUMMARY:5% Discount Deadline
DESCRIPTION:5% Discount Deadline
URL:https://rmofcana.ca/event/5-discount-deadline-3/
END:VEVENT
BEGIN:VEVENT
DTSTART;VALUE=DATE:20220930
DTEND;VALUE=DATE:20221001
DTSTAMP:20260419T081340
CREATED:20220420T153208Z
LAST-MODIFIED:20220420T153208Z
UID:9260-1664496000-1664582399@rmofcana.ca
SUMMARY:Office Closed
DESCRIPTION:Office Closed
URL:https://rmofcana.ca/event/office-closed-147/
END:VEVENT
END:VCALENDAR