BEGIN:VCALENDAR
VERSION:2.0
PRODID:-//RM of Cana - ECPv6.9.0//NONSGML v1.0//EN
CALSCALE:GREGORIAN
METHOD:PUBLISH
X-ORIGINAL-URL:https://rmofcana.ca
X-WR-CALDESC:Events for RM of Cana
REFRESH-INTERVAL;VALUE=DURATION:PT1H
X-Robots-Tag:noindex
X-PUBLISHED-TTL:PT1H
BEGIN:VTIMEZONE
TZID:America/Swift_Current
BEGIN:STANDARD
TZOFFSETFROM:-0600
TZOFFSETTO:-0600
TZNAME:CST
DTSTART:20240101T000000
END:STANDARD
END:VTIMEZONE
BEGIN:VEVENT
DTSTART;TZID=America/Swift_Current:20240910T090000
DTEND;TZID=America/Swift_Current:20240910T170000
DTSTAMP:20260419T085341
CREATED:20240430T160222Z
LAST-MODIFIED:20240430T160222Z
UID:9841-1725958800-1725987600@rmofcana.ca
SUMMARY:Council Meeting
DESCRIPTION:
URL:https://rmofcana.ca/event/council-meeting-30/
END:VEVENT
BEGIN:VEVENT
DTSTART;TZID=America/Swift_Current:20240913T080000
DTEND;TZID=America/Swift_Current:20240913T170000
DTSTAMP:20260419T085341
CREATED:20240430T164942Z
LAST-MODIFIED:20240430T164942Z
UID:9903-1726214400-1726246800@rmofcana.ca
SUMMARY:Office Closed
DESCRIPTION:
URL:https://rmofcana.ca/event/office-closed-223/
END:VEVENT
BEGIN:VEVENT
DTSTART;TZID=America/Swift_Current:20240913T080000
DTEND;TZID=America/Swift_Current:20240913T170000
DTSTAMP:20260419T085341
CREATED:20240430T165352Z
LAST-MODIFIED:20240430T165352Z
UID:9917-1726214400-1726246800@rmofcana.ca
SUMMARY:Office Closed
DESCRIPTION:
URL:https://rmofcana.ca/event/office-closed-230/
END:VEVENT
BEGIN:VEVENT
DTSTART;TZID=America/Swift_Current:20240920T080000
DTEND;TZID=America/Swift_Current:20240920T170000
DTSTAMP:20260419T085341
CREATED:20240430T164957Z
LAST-MODIFIED:20240430T164957Z
UID:9905-1726819200-1726851600@rmofcana.ca
SUMMARY:Office Closed
DESCRIPTION:
URL:https://rmofcana.ca/event/office-closed-224/
END:VEVENT
BEGIN:VEVENT
DTSTART;TZID=America/Swift_Current:20240920T080000
DTEND;TZID=America/Swift_Current:20240920T170000
DTSTAMP:20260419T085341
CREATED:20240430T165406Z
LAST-MODIFIED:20240430T165406Z
UID:9919-1726819200-1726851600@rmofcana.ca
SUMMARY:Office Closed
DESCRIPTION:
URL:https://rmofcana.ca/event/office-closed-231/
END:VEVENT
BEGIN:VEVENT
DTSTART;TZID=America/Swift_Current:20240927T080000
DTEND;TZID=America/Swift_Current:20240927T170000
DTSTAMP:20260419T085341
CREATED:20240430T165013Z
LAST-MODIFIED:20240430T165013Z
UID:9907-1727424000-1727456400@rmofcana.ca
SUMMARY:Office Closed
DESCRIPTION:
URL:https://rmofcana.ca/event/office-closed-225/
END:VEVENT
BEGIN:VEVENT
DTSTART;TZID=America/Swift_Current:20240927T080000
DTEND;TZID=America/Swift_Current:20240927T170000
DTSTAMP:20260419T085341
CREATED:20240430T165104Z
LAST-MODIFIED:20240430T165104Z
UID:9909-1727424000-1727456400@rmofcana.ca
SUMMARY:Office Closed
DESCRIPTION:
URL:https://rmofcana.ca/event/office-closed-226/
END:VEVENT
BEGIN:VEVENT
DTSTART;TZID=America/Swift_Current:20241008T090000
DTEND;TZID=America/Swift_Current:20241008T170000
DTSTAMP:20260419T085341
CREATED:20240430T160254Z
LAST-MODIFIED:20240430T160538Z
UID:9843-1728378000-1728406800@rmofcana.ca
SUMMARY:Council Meeting
DESCRIPTION:
URL:https://rmofcana.ca/event/council-meeting-31/
END:VEVENT
BEGIN:VEVENT
DTSTART;TZID=America/Swift_Current:20241112T080000
DTEND;TZID=America/Swift_Current:20241112T170000
DTSTAMP:20260419T085341
CREATED:20241022T173724Z
LAST-MODIFIED:20241022T173724Z
UID:10001-1731398400-1731430800@rmofcana.ca
SUMMARY:Council Meeting
DESCRIPTION:
URL:https://rmofcana.ca/event/council-meeting-44/
END:VEVENT
BEGIN:VEVENT
DTSTART;TZID=America/Swift_Current:20241113T090000
DTEND;TZID=America/Swift_Current:20241113T200000
DTSTAMP:20260419T085341
CREATED:20240430T160738Z
LAST-MODIFIED:20240430T160738Z
UID:9845-1731488400-1731528000@rmofcana.ca
SUMMARY:Election Day
DESCRIPTION:
URL:https://rmofcana.ca/event/election-day-2/
END:VEVENT
BEGIN:VEVENT
DTSTART;TZID=America/Swift_Current:20241210T090000
DTEND;TZID=America/Swift_Current:20241210T170000
DTSTAMP:20260419T085341
CREATED:20240430T160816Z
LAST-MODIFIED:20240430T160816Z
UID:9847-1733821200-1733850000@rmofcana.ca
SUMMARY:Council Meeting
DESCRIPTION:
URL:https://rmofcana.ca/event/council-meeting-32/
END:VEVENT
BEGIN:VEVENT
DTSTART;TZID=America/Swift_Current:20250114T090000
DTEND;TZID=America/Swift_Current:20250114T170000
DTSTAMP:20260419T085341
CREATED:20240430T160857Z
LAST-MODIFIED:20240430T160857Z
UID:9849-1736845200-1736874000@rmofcana.ca
SUMMARY:Council Meeting
DESCRIPTION:
URL:https://rmofcana.ca/event/council-meeting-33/
END:VEVENT
BEGIN:VEVENT
DTSTART;TZID=America/Swift_Current:20250131T080000
DTEND;TZID=America/Swift_Current:20250131T170000
DTSTAMP:20260419T085341
CREATED:20250129T175949Z
LAST-MODIFIED:20250129T175949Z
UID:10078-1738310400-1738342800@rmofcana.ca
SUMMARY:Office Closed
DESCRIPTION:
URL:https://rmofcana.ca/event/office-closed-238/
END:VEVENT
BEGIN:VEVENT
DTSTART;TZID=America/Swift_Current:20250207T080000
DTEND;TZID=America/Swift_Current:20250207T170000
DTSTAMP:20260419T085341
CREATED:20240430T165419Z
LAST-MODIFIED:20250129T174138Z
UID:9921-1738915200-1738947600@rmofcana.ca
SUMMARY:Office Closed
DESCRIPTION:
URL:https://rmofcana.ca/event/office-closed-232/
END:VEVENT
BEGIN:VEVENT
DTSTART;TZID=America/Swift_Current:20250211T090000
DTEND;TZID=America/Swift_Current:20250211T170000
DTSTAMP:20260419T085341
CREATED:20240430T160930Z
LAST-MODIFIED:20240430T160930Z
UID:9851-1739264400-1739293200@rmofcana.ca
SUMMARY:Council Meeting
DESCRIPTION:
URL:https://rmofcana.ca/event/council-meeting-34/
END:VEVENT
BEGIN:VEVENT
DTSTART;TZID=America/Swift_Current:20250214T080000
DTEND;TZID=America/Swift_Current:20250214T170000
DTSTAMP:20260419T085341
CREATED:20250129T174630Z
LAST-MODIFIED:20250129T174630Z
UID:10059-1739520000-1739552400@rmofcana.ca
SUMMARY:Office Closed
DESCRIPTION:
URL:https://rmofcana.ca/event/office-closed-236/
END:VEVENT
BEGIN:VEVENT
DTSTART;TZID=America/Swift_Current:20250217T080000
DTEND;TZID=America/Swift_Current:20250217T170000
DTSTAMP:20260419T085341
CREATED:20250212T160915Z
LAST-MODIFIED:20250212T160915Z
UID:10174-1739779200-1739811600@rmofcana.ca
SUMMARY:Family Day Office Closed
DESCRIPTION:
URL:https://rmofcana.ca/event/family-day-office-closed/
END:VEVENT
BEGIN:VEVENT
DTSTART;TZID=America/Swift_Current:20250221T080000
DTEND;TZID=America/Swift_Current:20250221T170000
DTSTAMP:20260419T085341
CREATED:20250129T174711Z
LAST-MODIFIED:20250129T174711Z
UID:10061-1740124800-1740157200@rmofcana.ca
SUMMARY:Office Closed
DESCRIPTION:
URL:https://rmofcana.ca/event/office-closed-237/
END:VEVENT
BEGIN:VEVENT
DTSTART;TZID=America/Swift_Current:20250228T080000
DTEND;TZID=America/Swift_Current:20250228T170000
DTSTAMP:20260419T085341
CREATED:20250129T175606Z
LAST-MODIFIED:20250129T175606Z
UID:10068-1740729600-1740762000@rmofcana.ca
SUMMARY:Office Closed
DESCRIPTION:
URL:https://rmofcana.ca/event/office-closed-240/
END:VEVENT
BEGIN:VEVENT
DTSTART;TZID=America/Swift_Current:20250306T080000
DTEND;TZID=America/Swift_Current:20250306T170000
DTSTAMP:20260419T085341
CREATED:20250212T160806Z
LAST-MODIFIED:20250212T160806Z
UID:10171-1741248000-1741280400@rmofcana.ca
SUMMARY:Council Meeting
DESCRIPTION:
URL:https://rmofcana.ca/event/council-meeting-35/
END:VEVENT
BEGIN:VEVENT
DTSTART;TZID=America/Swift_Current:20250307T080000
DTEND;TZID=America/Swift_Current:20250307T170000
DTSTAMP:20260419T085341
CREATED:20250129T175620Z
LAST-MODIFIED:20250129T175620Z
UID:10070-1741334400-1741366800@rmofcana.ca
SUMMARY:Office Closed
DESCRIPTION:
URL:https://rmofcana.ca/event/office-closed-241/
END:VEVENT
BEGIN:VEVENT
DTSTART;TZID=America/Swift_Current:20250314T080000
DTEND;TZID=America/Swift_Current:20250314T170000
DTSTAMP:20260419T085341
CREATED:20250129T175633Z
LAST-MODIFIED:20250129T175633Z
UID:10072-1741939200-1741971600@rmofcana.ca
SUMMARY:Office Closed
DESCRIPTION:
URL:https://rmofcana.ca/event/office-closed-242/
END:VEVENT
BEGIN:VEVENT
DTSTART;TZID=America/Swift_Current:20250321T080000
DTEND;TZID=America/Swift_Current:20250321T170000
DTSTAMP:20260419T085341
CREATED:20250129T175729Z
LAST-MODIFIED:20250129T175729Z
UID:10076-1742544000-1742576400@rmofcana.ca
SUMMARY:Office Closed
DESCRIPTION:
URL:https://rmofcana.ca/event/office-closed-244/
END:VEVENT
BEGIN:VEVENT
DTSTART;TZID=America/Swift_Current:20250328T080000
DTEND;TZID=America/Swift_Current:20250328T170000
DTSTAMP:20260419T085341
CREATED:20250129T175649Z
LAST-MODIFIED:20250129T175649Z
UID:10074-1743148800-1743181200@rmofcana.ca
SUMMARY:Office Closed
DESCRIPTION:
URL:https://rmofcana.ca/event/office-closed-243/
END:VEVENT
BEGIN:VEVENT
DTSTART;TZID=America/Swift_Current:20250404T080000
DTEND;TZID=America/Swift_Current:20250404T170000
DTSTAMP:20260419T085341
CREATED:20250129T180014Z
LAST-MODIFIED:20250129T180014Z
UID:10080-1743753600-1743786000@rmofcana.ca
SUMMARY:Office Closed
DESCRIPTION:
URL:https://rmofcana.ca/event/office-closed-239/
END:VEVENT
BEGIN:VEVENT
DTSTART;TZID=America/Swift_Current:20250408T090000
DTEND;TZID=America/Swift_Current:20250408T170000
DTSTAMP:20260419T085341
CREATED:20240430T162118Z
LAST-MODIFIED:20240430T163358Z
UID:9855-1744102800-1744131600@rmofcana.ca
SUMMARY:Council Meeting
DESCRIPTION:
URL:https://rmofcana.ca/event/council-meeting-36/
END:VEVENT
BEGIN:VEVENT
DTSTART;TZID=America/Swift_Current:20250411T080000
DTEND;TZID=America/Swift_Current:20250411T170000
DTSTAMP:20260419T085341
CREATED:20250129T180030Z
LAST-MODIFIED:20250129T180030Z
UID:10082-1744358400-1744390800@rmofcana.ca
SUMMARY:Office Closed
DESCRIPTION:
URL:https://rmofcana.ca/event/office-closed-245/
END:VEVENT
BEGIN:VEVENT
DTSTART;TZID=America/Swift_Current:20250418T080000
DTEND;TZID=America/Swift_Current:20250418T170000
DTSTAMP:20260419T085341
CREATED:20250129T180050Z
LAST-MODIFIED:20250129T180050Z
UID:10084-1744963200-1744995600@rmofcana.ca
SUMMARY:Office Closed
DESCRIPTION:
URL:https://rmofcana.ca/event/office-closed-246/
END:VEVENT
BEGIN:VEVENT
DTSTART;TZID=America/Swift_Current:20250425T080000
DTEND;TZID=America/Swift_Current:20250425T170000
DTSTAMP:20260419T085341
CREATED:20250129T180106Z
LAST-MODIFIED:20250129T180106Z
UID:10086-1745568000-1745600400@rmofcana.ca
SUMMARY:Office Closed
DESCRIPTION:
URL:https://rmofcana.ca/event/office-closed-247/
END:VEVENT
BEGIN:VEVENT
DTSTART;TZID=America/Swift_Current:20250502T080000
DTEND;TZID=America/Swift_Current:20250502T170000
DTSTAMP:20260419T085341
CREATED:20250129T180303Z
LAST-MODIFIED:20250129T180303Z
UID:10089-1746172800-1746205200@rmofcana.ca
SUMMARY:Office Closed
DESCRIPTION:
URL:https://rmofcana.ca/event/office-closed-248/
END:VEVENT
END:VCALENDAR