BEGIN:VCALENDAR
VERSION:2.0
PRODID:-//RM of Cana - ECPv6.9.0//NONSGML v1.0//EN
CALSCALE:GREGORIAN
METHOD:PUBLISH
X-WR-CALNAME:RM of Cana
X-ORIGINAL-URL:https://rmofcana.ca
X-WR-CALDESC:Events for RM of Cana
REFRESH-INTERVAL;VALUE=DURATION:PT1H
X-Robots-Tag:noindex
X-PUBLISHED-TTL:PT1H
BEGIN:VTIMEZONE
TZID:America/Swift_Current
BEGIN:STANDARD
TZOFFSETFROM:-0600
TZOFFSETTO:-0600
TZNAME:CST
DTSTART:20220101T000000
END:STANDARD
END:VTIMEZONE
BEGIN:VEVENT
DTSTART;VALUE=DATE:20220923
DTEND;VALUE=DATE:20220924
DTSTAMP:20260419T114429
CREATED:20220420T153153Z
LAST-MODIFIED:20220420T153153Z
UID:9258-1663891200-1663977599@rmofcana.ca
SUMMARY:Office Closed
DESCRIPTION:Office Closed
URL:https://rmofcana.ca/event/office-closed-146/
END:VEVENT
BEGIN:VEVENT
DTSTART;VALUE=DATE:20220916
DTEND;VALUE=DATE:20220917
DTSTAMP:20260419T114429
CREATED:20220420T153139Z
LAST-MODIFIED:20220420T153139Z
UID:9256-1663286400-1663372799@rmofcana.ca
SUMMARY:Office Closed
DESCRIPTION:Office Closed
URL:https://rmofcana.ca/event/office-closed-145/
END:VEVENT
BEGIN:VEVENT
DTSTART;VALUE=DATE:20220913
DTEND;VALUE=DATE:20220914
DTSTAMP:20260419T114429
CREATED:20220420T153900Z
LAST-MODIFIED:20220420T153900Z
UID:9304-1663027200-1663113599@rmofcana.ca
SUMMARY:Regular Council Meeting
DESCRIPTION:Regular Council Meeting – 8am
URL:https://rmofcana.ca/event/regular-council-meeting-20/
END:VEVENT
BEGIN:VEVENT
DTSTART;VALUE=DATE:20220909
DTEND;VALUE=DATE:20220910
DTSTAMP:20260419T114429
CREATED:20220420T153122Z
LAST-MODIFIED:20220420T153122Z
UID:9254-1662681600-1662767999@rmofcana.ca
SUMMARY:Office Closed
DESCRIPTION:Office Closed
URL:https://rmofcana.ca/event/office-closed-144/
END:VEVENT
BEGIN:VEVENT
DTSTART;VALUE=DATE:20220905
DTEND;VALUE=DATE:20220906
DTSTAMP:20260419T114429
CREATED:20220420T154306Z
LAST-MODIFIED:20220420T154306Z
UID:9322-1662336000-1662422399@rmofcana.ca
SUMMARY:Office Closed - Labour Day
DESCRIPTION:Office Closed – Labour Day
URL:https://rmofcana.ca/event/office-closed-labour-day-4/
END:VEVENT
BEGIN:VEVENT
DTSTART;VALUE=DATE:20220902
DTEND;VALUE=DATE:20220903
DTSTAMP:20260419T114429
CREATED:20220420T153108Z
LAST-MODIFIED:20220420T153108Z
UID:9252-1662076800-1662163199@rmofcana.ca
SUMMARY:Office Closed
DESCRIPTION:Office Closed
URL:https://rmofcana.ca/event/office-closed-143/
END:VEVENT
BEGIN:VEVENT
DTSTART;VALUE=DATE:20220826
DTEND;VALUE=DATE:20220827
DTSTAMP:20260419T114429
CREATED:20220420T152739Z
LAST-MODIFIED:20220420T152739Z
UID:9250-1661472000-1661558399@rmofcana.ca
SUMMARY:Office Closed
DESCRIPTION:Office Closed
URL:https://rmofcana.ca/event/office-closed-142/
END:VEVENT
BEGIN:VEVENT
DTSTART;VALUE=DATE:20220819
DTEND;VALUE=DATE:20220820
DTSTAMP:20260419T114429
CREATED:20220420T152726Z
LAST-MODIFIED:20220420T152726Z
UID:9248-1660867200-1660953599@rmofcana.ca
SUMMARY:Office Closed
DESCRIPTION:Office Closed
URL:https://rmofcana.ca/event/office-closed-141/
END:VEVENT
BEGIN:VEVENT
DTSTART;VALUE=DATE:20220812
DTEND;VALUE=DATE:20220813
DTSTAMP:20260419T114429
CREATED:20220420T152713Z
LAST-MODIFIED:20220420T152713Z
UID:9246-1660262400-1660348799@rmofcana.ca
SUMMARY:Office Closed
DESCRIPTION:Office Closed
URL:https://rmofcana.ca/event/office-closed-140/
END:VEVENT
BEGIN:VEVENT
DTSTART;VALUE=DATE:20220809
DTEND;VALUE=DATE:20220810
DTSTAMP:20260419T114429
CREATED:20220420T153842Z
LAST-MODIFIED:20220420T153842Z
UID:9302-1660003200-1660089599@rmofcana.ca
SUMMARY:Regular Council Meeting
DESCRIPTION:Regular Council Meeting – 8am
URL:https://rmofcana.ca/event/regular-council-meeting-19/
END:VEVENT
BEGIN:VEVENT
DTSTART;VALUE=DATE:20220805
DTEND;VALUE=DATE:20220806
DTSTAMP:20260419T114429
CREATED:20220420T152701Z
LAST-MODIFIED:20220420T152701Z
UID:9244-1659657600-1659743999@rmofcana.ca
SUMMARY:Office Closed
DESCRIPTION:Office Closed
URL:https://rmofcana.ca/event/office-closed-139/
END:VEVENT
BEGIN:VEVENT
DTSTART;VALUE=DATE:20220801
DTEND;VALUE=DATE:20220802
DTSTAMP:20260419T114429
CREATED:20220420T154235Z
LAST-MODIFIED:20220420T154235Z
UID:9320-1659312000-1659398399@rmofcana.ca
SUMMARY:Office Closed - Civic Holiday
DESCRIPTION:Office Closed – Civic Holiday
URL:https://rmofcana.ca/event/office-closed-civic-holiday-3/
END:VEVENT
BEGIN:VEVENT
DTSTART;VALUE=DATE:20220729
DTEND;VALUE=DATE:20220730
DTSTAMP:20260419T114429
CREATED:20220420T152632Z
LAST-MODIFIED:20220420T152632Z
UID:9242-1659052800-1659139199@rmofcana.ca
SUMMARY:Office Closed
DESCRIPTION:Office Closed
URL:https://rmofcana.ca/event/office-closed-138/
END:VEVENT
BEGIN:VEVENT
DTSTART;VALUE=DATE:20220722
DTEND;VALUE=DATE:20220723
DTSTAMP:20260419T114429
CREATED:20220420T152619Z
LAST-MODIFIED:20220420T152619Z
UID:9240-1658448000-1658534399@rmofcana.ca
SUMMARY:Office Closed
DESCRIPTION:Office Closed
URL:https://rmofcana.ca/event/office-closed-137/
END:VEVENT
BEGIN:VEVENT
DTSTART;VALUE=DATE:20220715
DTEND;VALUE=DATE:20220716
DTSTAMP:20260419T114429
CREATED:20220420T152605Z
LAST-MODIFIED:20220420T152605Z
UID:9238-1657843200-1657929599@rmofcana.ca
SUMMARY:Office Closed
DESCRIPTION:Office Closed
URL:https://rmofcana.ca/event/office-closed-136/
END:VEVENT
BEGIN:VEVENT
DTSTART;VALUE=DATE:20220712
DTEND;VALUE=DATE:20220713
DTSTAMP:20260419T114429
CREATED:20220420T153824Z
LAST-MODIFIED:20220420T153824Z
UID:9300-1657584000-1657670399@rmofcana.ca
SUMMARY:Regular Council Meeting
DESCRIPTION:Regular Council Meeting – 8am
URL:https://rmofcana.ca/event/regular-council-meeting-18/
END:VEVENT
BEGIN:VEVENT
DTSTART;VALUE=DATE:20220708
DTEND;VALUE=DATE:20220709
DTSTAMP:20260419T114429
CREATED:20220420T152552Z
LAST-MODIFIED:20220420T152552Z
UID:9236-1657238400-1657324799@rmofcana.ca
SUMMARY:Office Closed
DESCRIPTION:Office Closed
URL:https://rmofcana.ca/event/office-closed-135/
END:VEVENT
BEGIN:VEVENT
DTSTART;VALUE=DATE:20220701
DTEND;VALUE=DATE:20220702
DTSTAMP:20260419T114429
CREATED:20220420T154206Z
LAST-MODIFIED:20220420T154206Z
UID:9318-1656633600-1656719999@rmofcana.ca
SUMMARY:Office Closed - Canada Day
DESCRIPTION:Office Closed – Canada Day
URL:https://rmofcana.ca/event/office-closed-canada-day-4/
END:VEVENT
BEGIN:VEVENT
DTSTART;VALUE=DATE:20220624
DTEND;VALUE=DATE:20220625
DTSTAMP:20260419T114429
CREATED:20220420T152524Z
LAST-MODIFIED:20220420T152524Z
UID:9232-1656028800-1656115199@rmofcana.ca
SUMMARY:Office Closed
DESCRIPTION:Office Closed
URL:https://rmofcana.ca/event/office-closed-133/
END:VEVENT
BEGIN:VEVENT
DTSTART;VALUE=DATE:20220617
DTEND;VALUE=DATE:20220618
DTSTAMP:20260419T114429
CREATED:20220420T152512Z
LAST-MODIFIED:20220420T152512Z
UID:9230-1655424000-1655510399@rmofcana.ca
SUMMARY:Office Closed
DESCRIPTION:Office Closed
URL:https://rmofcana.ca/event/office-closed-132/
END:VEVENT
BEGIN:VEVENT
DTSTART;VALUE=DATE:20220614
DTEND;VALUE=DATE:20220615
DTSTAMP:20260419T114429
CREATED:20220420T153757Z
LAST-MODIFIED:20220420T153806Z
UID:9297-1655164800-1655251199@rmofcana.ca
SUMMARY:Regular Council Meeting
DESCRIPTION:Regular Council Meeting – 8am
URL:https://rmofcana.ca/event/regular-council-meeting-17/
END:VEVENT
BEGIN:VEVENT
DTSTART;VALUE=DATE:20220610
DTEND;VALUE=DATE:20220611
DTSTAMP:20260419T114429
CREATED:20220420T152500Z
LAST-MODIFIED:20220420T152500Z
UID:9228-1654819200-1654905599@rmofcana.ca
SUMMARY:Office Closed
DESCRIPTION:Office Closed
URL:https://rmofcana.ca/event/office-closed-131/
END:VEVENT
BEGIN:VEVENT
DTSTART;VALUE=DATE:20220603
DTEND;VALUE=DATE:20220604
DTSTAMP:20260419T114429
CREATED:20220420T152447Z
LAST-MODIFIED:20220420T152447Z
UID:9226-1654214400-1654300799@rmofcana.ca
SUMMARY:Office Closed
DESCRIPTION:Office Closed
URL:https://rmofcana.ca/event/office-closed-130/
END:VEVENT
BEGIN:VEVENT
DTSTART;VALUE=DATE:20220527
DTEND;VALUE=DATE:20220528
DTSTAMP:20260419T114429
CREATED:20220420T152434Z
LAST-MODIFIED:20220420T152434Z
UID:9224-1653609600-1653695999@rmofcana.ca
SUMMARY:Office Closed
DESCRIPTION:Office Closed
URL:https://rmofcana.ca/event/office-closed-129/
END:VEVENT
BEGIN:VEVENT
DTSTART;VALUE=DATE:20220523
DTEND;VALUE=DATE:20220524
DTSTAMP:20260419T114429
CREATED:20220420T154138Z
LAST-MODIFIED:20220420T154138Z
UID:9316-1653264000-1653350399@rmofcana.ca
SUMMARY:Office Closed - Victoria Day
DESCRIPTION:Office Closed – Victoria Day
URL:https://rmofcana.ca/event/office-closed-victoria-day-3/
END:VEVENT
BEGIN:VEVENT
DTSTART;VALUE=DATE:20220520
DTEND;VALUE=DATE:20220521
DTSTAMP:20260419T114429
CREATED:20220420T152421Z
LAST-MODIFIED:20220420T152421Z
UID:9222-1653004800-1653091199@rmofcana.ca
SUMMARY:Office Closed
DESCRIPTION:Office Closed
URL:https://rmofcana.ca/event/office-closed-128/
END:VEVENT
BEGIN:VEVENT
DTSTART;VALUE=DATE:20220513
DTEND;VALUE=DATE:20220514
DTSTAMP:20260419T114429
CREATED:20220420T152410Z
LAST-MODIFIED:20220420T152410Z
UID:9220-1652400000-1652486399@rmofcana.ca
SUMMARY:Office Closed
DESCRIPTION:Office Closed
URL:https://rmofcana.ca/event/office-closed-127/
END:VEVENT
BEGIN:VEVENT
DTSTART;VALUE=DATE:20220510
DTEND;VALUE=DATE:20220511
DTSTAMP:20260419T114429
CREATED:20220420T153742Z
LAST-MODIFIED:20220420T153742Z
UID:9295-1652140800-1652227199@rmofcana.ca
SUMMARY:Regular Council Meeting
DESCRIPTION:Regular Council Meeting – 8am
URL:https://rmofcana.ca/event/regular-council-meeting-16/
END:VEVENT
BEGIN:VEVENT
DTSTART;VALUE=DATE:20220506
DTEND;VALUE=DATE:20220507
DTSTAMP:20260419T114429
CREATED:20220420T152356Z
LAST-MODIFIED:20220420T152356Z
UID:9218-1651795200-1651881599@rmofcana.ca
SUMMARY:Office Closed
DESCRIPTION:Office Closed
URL:https://rmofcana.ca/event/office-closed-126/
END:VEVENT
BEGIN:VEVENT
DTSTART;VALUE=DATE:20220429
DTEND;VALUE=DATE:20220430
DTSTAMP:20260419T114429
CREATED:20220420T152343Z
LAST-MODIFIED:20220420T152343Z
UID:9216-1651190400-1651276799@rmofcana.ca
SUMMARY:Office Closed
DESCRIPTION:Office Closed
URL:https://rmofcana.ca/event/office-closed-125/
END:VEVENT
END:VCALENDAR