BEGIN:VCALENDAR
VERSION:2.0
PRODID:-//RM of Cana - ECPv6.9.0//NONSGML v1.0//EN
CALSCALE:GREGORIAN
METHOD:PUBLISH
X-ORIGINAL-URL:https://rmofcana.ca
X-WR-CALDESC:Events for RM of Cana
REFRESH-INTERVAL;VALUE=DURATION:PT1H
X-Robots-Tag:noindex
X-PUBLISHED-TTL:PT1H
BEGIN:VTIMEZONE
TZID:America/Swift_Current
BEGIN:STANDARD
TZOFFSETFROM:-0600
TZOFFSETTO:-0600
TZNAME:CST
DTSTART:20250101T000000
END:STANDARD
END:VTIMEZONE
BEGIN:VEVENT
DTSTART;TZID=America/Swift_Current:20250307T080000
DTEND;TZID=America/Swift_Current:20250307T170000
DTSTAMP:20260419T105600
CREATED:20250129T175620Z
LAST-MODIFIED:20250129T175620Z
UID:10070-1741334400-1741366800@rmofcana.ca
SUMMARY:Office Closed
DESCRIPTION:
URL:https://rmofcana.ca/event/office-closed-241/
END:VEVENT
BEGIN:VEVENT
DTSTART;TZID=America/Swift_Current:20250314T080000
DTEND;TZID=America/Swift_Current:20250314T170000
DTSTAMP:20260419T105600
CREATED:20250129T175633Z
LAST-MODIFIED:20250129T175633Z
UID:10072-1741939200-1741971600@rmofcana.ca
SUMMARY:Office Closed
DESCRIPTION:
URL:https://rmofcana.ca/event/office-closed-242/
END:VEVENT
BEGIN:VEVENT
DTSTART;TZID=America/Swift_Current:20250321T080000
DTEND;TZID=America/Swift_Current:20250321T170000
DTSTAMP:20260419T105600
CREATED:20250129T175729Z
LAST-MODIFIED:20250129T175729Z
UID:10076-1742544000-1742576400@rmofcana.ca
SUMMARY:Office Closed
DESCRIPTION:
URL:https://rmofcana.ca/event/office-closed-244/
END:VEVENT
BEGIN:VEVENT
DTSTART;TZID=America/Swift_Current:20250328T080000
DTEND;TZID=America/Swift_Current:20250328T170000
DTSTAMP:20260419T105600
CREATED:20250129T175649Z
LAST-MODIFIED:20250129T175649Z
UID:10074-1743148800-1743181200@rmofcana.ca
SUMMARY:Office Closed
DESCRIPTION:
URL:https://rmofcana.ca/event/office-closed-243/
END:VEVENT
BEGIN:VEVENT
DTSTART;TZID=America/Swift_Current:20250404T080000
DTEND;TZID=America/Swift_Current:20250404T170000
DTSTAMP:20260419T105600
CREATED:20250129T180014Z
LAST-MODIFIED:20250129T180014Z
UID:10080-1743753600-1743786000@rmofcana.ca
SUMMARY:Office Closed
DESCRIPTION:
URL:https://rmofcana.ca/event/office-closed-239/
END:VEVENT
BEGIN:VEVENT
DTSTART;TZID=America/Swift_Current:20250408T090000
DTEND;TZID=America/Swift_Current:20250408T170000
DTSTAMP:20260419T105600
CREATED:20240430T162118Z
LAST-MODIFIED:20240430T163358Z
UID:9855-1744102800-1744131600@rmofcana.ca
SUMMARY:Council Meeting
DESCRIPTION:
URL:https://rmofcana.ca/event/council-meeting-36/
END:VEVENT
BEGIN:VEVENT
DTSTART;TZID=America/Swift_Current:20250411T080000
DTEND;TZID=America/Swift_Current:20250411T170000
DTSTAMP:20260419T105600
CREATED:20250129T180030Z
LAST-MODIFIED:20250129T180030Z
UID:10082-1744358400-1744390800@rmofcana.ca
SUMMARY:Office Closed
DESCRIPTION:
URL:https://rmofcana.ca/event/office-closed-245/
END:VEVENT
BEGIN:VEVENT
DTSTART;TZID=America/Swift_Current:20250418T080000
DTEND;TZID=America/Swift_Current:20250418T170000
DTSTAMP:20260419T105600
CREATED:20250129T180050Z
LAST-MODIFIED:20250129T180050Z
UID:10084-1744963200-1744995600@rmofcana.ca
SUMMARY:Office Closed
DESCRIPTION:
URL:https://rmofcana.ca/event/office-closed-246/
END:VEVENT
BEGIN:VEVENT
DTSTART;TZID=America/Swift_Current:20250425T080000
DTEND;TZID=America/Swift_Current:20250425T170000
DTSTAMP:20260419T105600
CREATED:20250129T180106Z
LAST-MODIFIED:20250129T180106Z
UID:10086-1745568000-1745600400@rmofcana.ca
SUMMARY:Office Closed
DESCRIPTION:
URL:https://rmofcana.ca/event/office-closed-247/
END:VEVENT
BEGIN:VEVENT
DTSTART;TZID=America/Swift_Current:20250502T080000
DTEND;TZID=America/Swift_Current:20250502T170000
DTSTAMP:20260419T105600
CREATED:20250129T180303Z
LAST-MODIFIED:20250129T180303Z
UID:10089-1746172800-1746205200@rmofcana.ca
SUMMARY:Office Closed
DESCRIPTION:
URL:https://rmofcana.ca/event/office-closed-248/
END:VEVENT
BEGIN:VEVENT
DTSTART;TZID=America/Swift_Current:20250506T090000
DTEND;TZID=America/Swift_Current:20250506T170000
DTSTAMP:20260419T105600
CREATED:20240430T162152Z
LAST-MODIFIED:20250409T182542Z
UID:9857-1746522000-1746550800@rmofcana.ca
SUMMARY:Council Meeting
DESCRIPTION:
URL:https://rmofcana.ca/event/council-meeting-37/
END:VEVENT
BEGIN:VEVENT
DTSTART;TZID=America/Swift_Current:20250509T080000
DTEND;TZID=America/Swift_Current:20250509T170000
DTSTAMP:20260419T105600
CREATED:20250129T180318Z
LAST-MODIFIED:20250129T180318Z
UID:10091-1746777600-1746810000@rmofcana.ca
SUMMARY:Office Closed
DESCRIPTION:
URL:https://rmofcana.ca/event/office-closed-249/
END:VEVENT
BEGIN:VEVENT
DTSTART;TZID=America/Swift_Current:20250516T080000
DTEND;TZID=America/Swift_Current:20250516T170000
DTSTAMP:20260419T105600
CREATED:20250129T180339Z
LAST-MODIFIED:20250129T180339Z
UID:10093-1747382400-1747414800@rmofcana.ca
SUMMARY:Office Closed
DESCRIPTION:
URL:https://rmofcana.ca/event/office-closed-250/
END:VEVENT
BEGIN:VEVENT
DTSTART;VALUE=DATE:20250519
DTEND;VALUE=DATE:20250520
DTSTAMP:20260419T105600
CREATED:20250409T182820Z
LAST-MODIFIED:20250409T182820Z
UID:10196-1747612800-1747699199@rmofcana.ca
SUMMARY:Office Closed Victoria Day
DESCRIPTION:
URL:https://rmofcana.ca/event/office-closed-victoria-day-4/
END:VEVENT
BEGIN:VEVENT
DTSTART;TZID=America/Swift_Current:20250523T080000
DTEND;TZID=America/Swift_Current:20250523T170000
DTSTAMP:20260419T105600
CREATED:20250129T180355Z
LAST-MODIFIED:20250129T180355Z
UID:10095-1747987200-1748019600@rmofcana.ca
SUMMARY:Office Closed
DESCRIPTION:
URL:https://rmofcana.ca/event/office-closed-251/
END:VEVENT
BEGIN:VEVENT
DTSTART;TZID=America/Swift_Current:20250530T080000
DTEND;TZID=America/Swift_Current:20250530T170000
DTSTAMP:20260419T105600
CREATED:20250129T180412Z
LAST-MODIFIED:20250129T180412Z
UID:10097-1748592000-1748624400@rmofcana.ca
SUMMARY:Office Closed
DESCRIPTION:
URL:https://rmofcana.ca/event/office-closed-252/
END:VEVENT
BEGIN:VEVENT
DTSTART;TZID=America/Swift_Current:20250606T080000
DTEND;TZID=America/Swift_Current:20250606T170000
DTSTAMP:20260419T105600
CREATED:20250129T180432Z
LAST-MODIFIED:20250129T180432Z
UID:10099-1749196800-1749229200@rmofcana.ca
SUMMARY:Office Closed
DESCRIPTION:
URL:https://rmofcana.ca/event/office-closed-253/
END:VEVENT
BEGIN:VEVENT
DTSTART;TZID=America/Swift_Current:20250610T090000
DTEND;TZID=America/Swift_Current:20250610T170000
DTSTAMP:20260419T105600
CREATED:20240430T162222Z
LAST-MODIFIED:20240430T162222Z
UID:9859-1749546000-1749574800@rmofcana.ca
SUMMARY:Council Meeting
DESCRIPTION:
URL:https://rmofcana.ca/event/council-meeting-38/
END:VEVENT
BEGIN:VEVENT
DTSTART;TZID=America/Swift_Current:20250613T080000
DTEND;TZID=America/Swift_Current:20250613T170000
DTSTAMP:20260419T105600
CREATED:20250129T180448Z
LAST-MODIFIED:20250129T180448Z
UID:10101-1749801600-1749834000@rmofcana.ca
SUMMARY:Office Closed
DESCRIPTION:
URL:https://rmofcana.ca/event/office-closed-254/
END:VEVENT
BEGIN:VEVENT
DTSTART;TZID=America/Swift_Current:20250620T080000
DTEND;TZID=America/Swift_Current:20250620T170000
DTSTAMP:20260419T105600
CREATED:20250129T180504Z
LAST-MODIFIED:20250129T180504Z
UID:10103-1750406400-1750438800@rmofcana.ca
SUMMARY:Office Closed
DESCRIPTION:
URL:https://rmofcana.ca/event/office-closed-255/
END:VEVENT
BEGIN:VEVENT
DTSTART;TZID=America/Swift_Current:20250627T080000
DTEND;TZID=America/Swift_Current:20250627T170000
DTSTAMP:20260419T105600
CREATED:20250129T180521Z
LAST-MODIFIED:20250129T180521Z
UID:10105-1751011200-1751043600@rmofcana.ca
SUMMARY:Office Closed
DESCRIPTION:
URL:https://rmofcana.ca/event/office-closed-256/
END:VEVENT
BEGIN:VEVENT
DTSTART;TZID=America/Swift_Current:20250630T080000
DTEND;TZID=America/Swift_Current:20250630T170000
DTSTAMP:20260419T105600
CREATED:20250624T202524Z
LAST-MODIFIED:20250624T202524Z
UID:10255-1751270400-1751302800@rmofcana.ca
SUMMARY:Office Closed
DESCRIPTION:
URL:https://rmofcana.ca/event/office-closed-280/
END:VEVENT
BEGIN:VEVENT
DTSTART;TZID=America/Swift_Current:20250704T080000
DTEND;TZID=America/Swift_Current:20250704T170000
DTSTAMP:20260419T105600
CREATED:20250129T180544Z
LAST-MODIFIED:20250129T180544Z
UID:10107-1751616000-1751648400@rmofcana.ca
SUMMARY:Office Closed
DESCRIPTION:
URL:https://rmofcana.ca/event/office-closed-257/
END:VEVENT
BEGIN:VEVENT
DTSTART;TZID=America/Swift_Current:20250708T080000
DTEND;TZID=America/Swift_Current:20250708T170000
DTSTAMP:20260419T105600
CREATED:20240430T162251Z
LAST-MODIFIED:20240430T162251Z
UID:9861-1751961600-1751994000@rmofcana.ca
SUMMARY:Council Meeting
DESCRIPTION:
URL:https://rmofcana.ca/event/council-meeting-39/
END:VEVENT
BEGIN:VEVENT
DTSTART;TZID=America/Swift_Current:20250711T080000
DTEND;TZID=America/Swift_Current:20250711T170000
DTSTAMP:20260419T105600
CREATED:20250129T180559Z
LAST-MODIFIED:20250129T180559Z
UID:10109-1752220800-1752253200@rmofcana.ca
SUMMARY:Office Closed
DESCRIPTION:
URL:https://rmofcana.ca/event/office-closed-258/
END:VEVENT
BEGIN:VEVENT
DTSTART;TZID=America/Swift_Current:20250718T080000
DTEND;TZID=America/Swift_Current:20250718T170000
DTSTAMP:20260419T105600
CREATED:20250129T180614Z
LAST-MODIFIED:20250129T180614Z
UID:10111-1752825600-1752858000@rmofcana.ca
SUMMARY:Office Closed
DESCRIPTION:
URL:https://rmofcana.ca/event/office-closed-259/
END:VEVENT
BEGIN:VEVENT
DTSTART;TZID=America/Swift_Current:20250725T080000
DTEND;TZID=America/Swift_Current:20250725T170000
DTSTAMP:20260419T105600
CREATED:20250129T180633Z
LAST-MODIFIED:20250129T180633Z
UID:10113-1753430400-1753462800@rmofcana.ca
SUMMARY:Office Closed
DESCRIPTION:
URL:https://rmofcana.ca/event/office-closed-260/
END:VEVENT
BEGIN:VEVENT
DTSTART;TZID=America/Swift_Current:20250801T080000
DTEND;TZID=America/Swift_Current:20250801T170000
DTSTAMP:20260419T105600
CREATED:20250129T180651Z
LAST-MODIFIED:20250129T180651Z
UID:10115-1754035200-1754067600@rmofcana.ca
SUMMARY:Office Closed
DESCRIPTION:
URL:https://rmofcana.ca/event/office-closed-261/
END:VEVENT
BEGIN:VEVENT
DTSTART;VALUE=DATE:20250804
DTEND;VALUE=DATE:20250805
DTSTAMP:20260419T105600
CREATED:20250409T183003Z
LAST-MODIFIED:20250409T183003Z
UID:10200-1754265600-1754351999@rmofcana.ca
SUMMARY:Office Closed Saskatchewan Day
DESCRIPTION:
URL:https://rmofcana.ca/event/office-closed-saskatchewan-day/
END:VEVENT
BEGIN:VEVENT
DTSTART;TZID=America/Swift_Current:20250808T080000
DTEND;TZID=America/Swift_Current:20250808T170000
DTSTAMP:20260419T105600
CREATED:20250129T180707Z
LAST-MODIFIED:20250129T180707Z
UID:10117-1754640000-1754672400@rmofcana.ca
SUMMARY:Office Closed
DESCRIPTION:
URL:https://rmofcana.ca/event/office-closed-262/
END:VEVENT
END:VCALENDAR